BEGIN:VCALENDAR
VERSION:2.0
PRODID:-//BENN Louis-Lewin-Straße - ECPv6.15.20//NONSGML v1.0//EN
CALSCALE:GREGORIAN
METHOD:PUBLISH
X-ORIGINAL-URL:https://benn-lls.de
X-WR-CALDESC:Veranstaltungen für BENN Louis-Lewin-Straße
REFRESH-INTERVAL;VALUE=DURATION:PT1H
X-Robots-Tag:noindex
X-PUBLISHED-TTL:PT1H
BEGIN:VTIMEZONE
TZID:Europe/Berlin
BEGIN:DAYLIGHT
TZOFFSETFROM:+0100
TZOFFSETTO:+0200
TZNAME:CEST
DTSTART:20230326T010000
END:DAYLIGHT
BEGIN:STANDARD
TZOFFSETFROM:+0200
TZOFFSETTO:+0100
TZNAME:CET
DTSTART:20231029T010000
END:STANDARD
BEGIN:DAYLIGHT
TZOFFSETFROM:+0100
TZOFFSETTO:+0200
TZNAME:CEST
DTSTART:20240331T010000
END:DAYLIGHT
BEGIN:STANDARD
TZOFFSETFROM:+0200
TZOFFSETTO:+0100
TZNAME:CET
DTSTART:20241027T010000
END:STANDARD
BEGIN:DAYLIGHT
TZOFFSETFROM:+0100
TZOFFSETTO:+0200
TZNAME:CEST
DTSTART:20250330T010000
END:DAYLIGHT
BEGIN:STANDARD
TZOFFSETFROM:+0200
TZOFFSETTO:+0100
TZNAME:CET
DTSTART:20251026T010000
END:STANDARD
END:VTIMEZONE
BEGIN:VEVENT
DTSTART;TZID=Europe/Berlin:20240907T140000
DTEND;TZID=Europe/Berlin:20240907T190000
DTSTAMP:20260423T192101
CREATED:20240813T113455Z
LAST-MODIFIED:20240813T113455Z
UID:1284-1725717600-1725735600@benn-lls.de
SUMMARY:Schöner Leben ohne Nazis - Demokratiefest
DESCRIPTION:Liebe Hellersdorfer! \nAm Samstag\, den 07. September 2024 von 14-19 Uhr findet wieder das „Schöner Leben ohne Nazis“ (SLON) Demokratiefest auf dem Alice-Salomon-Platz (U-Bhf. Hellersdorf\, U5) statt. \nEs wird viele tolle Angebote geben\, wie z.B. Spiel & Spaß für Kinder\, Live-Musik und Internationale Leckereien. \nUnser BENN Team Louis-Lewin-Straße wird zusammen mit dem Stadtteilzentrum Hellersdorf-Ost und der Gemeinschaftsunterkunft Albert-Kuntz-Straße eine tolle Mitmach-Aktion anbieten. \nUnter dieser Adresse findet ihr weitere Informationen zu dem Fest: Schöner leben ohne Nazis 2024 | Roter Baum Berlin (roter-baum-berlin.de) \n  \nWir freuen uns\, wenn ihr kommt! \n  \nEuer BENN Team in der Louis-Lewin-Straße
URL:https://benn-lls.de/event/schoener-leben-ohne-nazis-demokratiefest/
LOCATION:Alice-Salomon-Platz\, Hellersdorf
ATTACH;FMTTYPE=application/pdf:https://benn-lls.de/wordpress/wp-content/uploads/2024/08/lageplan_schoen_24.pdf
END:VEVENT
END:VCALENDAR