BEGIN:VCALENDAR
VERSION:2.0
PRODID:-//BENN Louis-Lewin-Straße - ECPv6.15.20//NONSGML v1.0//EN
CALSCALE:GREGORIAN
METHOD:PUBLISH
X-WR-CALNAME:BENN Louis-Lewin-Straße
X-ORIGINAL-URL:https://benn-lls.de
X-WR-CALDESC:Veranstaltungen für BENN Louis-Lewin-Straße
REFRESH-INTERVAL;VALUE=DURATION:PT1H
X-Robots-Tag:noindex
X-PUBLISHED-TTL:PT1H
BEGIN:VTIMEZONE
TZID:Europe/Berlin
BEGIN:DAYLIGHT
TZOFFSETFROM:+0100
TZOFFSETTO:+0200
TZNAME:CEST
DTSTART:20250330T010000
END:DAYLIGHT
BEGIN:STANDARD
TZOFFSETFROM:+0200
TZOFFSETTO:+0100
TZNAME:CET
DTSTART:20251026T010000
END:STANDARD
BEGIN:DAYLIGHT
TZOFFSETFROM:+0100
TZOFFSETTO:+0200
TZNAME:CEST
DTSTART:20260329T010000
END:DAYLIGHT
BEGIN:STANDARD
TZOFFSETFROM:+0200
TZOFFSETTO:+0100
TZNAME:CET
DTSTART:20261025T010000
END:STANDARD
BEGIN:DAYLIGHT
TZOFFSETFROM:+0100
TZOFFSETTO:+0200
TZNAME:CEST
DTSTART:20270328T010000
END:DAYLIGHT
BEGIN:STANDARD
TZOFFSETFROM:+0200
TZOFFSETTO:+0100
TZNAME:CET
DTSTART:20271031T010000
END:STANDARD
END:VTIMEZONE
BEGIN:VEVENT
DTSTART;TZID=Europe/Berlin:20260203T160000
DTEND;TZID=Europe/Berlin:20260203T170000
DTSTAMP:20260422T162600
CREATED:20260203T162225Z
LAST-MODIFIED:20260203T162225Z
UID:2284-1770134400-1770138000@benn-lls.de
SUMMARY:Märchenstunde für Kinder ab 3 Jahren
DESCRIPTION:
URL:https://benn-lls.de/event/maerchenstunde-fuer-kinder-ab-3-jahren/
LOCATION:BENN Büro\, Louis-Lewin-Straße 101\, Berlin\, 12627\, Germany
ATTACH;FMTTYPE=image/png:https://benn-lls.de/wordpress/wp-content/uploads/2026/02/Vorlese-0302.png
END:VEVENT
BEGIN:VEVENT
DTSTART;TZID=Europe/Berlin:20260204T150000
DTEND;TZID=Europe/Berlin:20260204T170000
DTSTAMP:20260422T162600
CREATED:20260203T162254Z
LAST-MODIFIED:20260203T162254Z
UID:2287-1770217200-1770224400@benn-lls.de
SUMMARY:Frauen-Treff (mit Kinderbetreuung)
DESCRIPTION:Kaffee\, Kekse\, Spiele  – komm vorbei! Alle Frauen* sind willkommen. Wir tauschen uns aus\, verbessern unser Deutsch und unterstützen uns gegenseitig. \nMit Kinderbetreuung.
URL:https://benn-lls.de/event/frauen-treff-mit-kinderbetreuung-35/
LOCATION:BENN Büro\, Louis-Lewin-Straße 101\, Berlin\, 12627\, Germany
ATTACH;FMTTYPE=image/png:https://benn-lls.de/wordpress/wp-content/uploads/2025/04/Frauentreff.png
END:VEVENT
BEGIN:VEVENT
DTSTART;TZID=Europe/Berlin:20260205T150000
DTEND;TZID=Europe/Berlin:20260205T160000
DTSTAMP:20260422T162600
CREATED:20260203T165126Z
LAST-MODIFIED:20260203T165126Z
UID:2314-1770303600-1770307200@benn-lls.de
SUMMARY:Nachbarschafts-Forum
DESCRIPTION:Es ist an der Zeit\, dass wir uns euer Feedback und eure Ideen zu den Aktivitäten anhören\, die wir bei BENN für die Nachbarschaft durchführen. Was sind eure Favoriten? Was könnte besser sein? Und wie kann BENN dabei helfen? Kommt vorbei und sagt uns eure Meinung! Wir freuen uns auf euch.
URL:https://benn-lls.de/event/nachbarschafts-forum/
LOCATION:BENN Büro\, Louis-Lewin-Straße 101\, Berlin\, 12627\, Germany
ATTACH;FMTTYPE=image/png:https://benn-lls.de/wordpress/wp-content/uploads/2026/02/Nachbarschaftsforum.png
END:VEVENT
BEGIN:VEVENT
DTSTART;TZID=Europe/Berlin:20260205T160000
DTEND;TZID=Europe/Berlin:20260205T180000
DTSTAMP:20260422T162600
CREATED:20260203T163654Z
LAST-MODIFIED:20260203T163654Z
UID:2304-1770307200-1770314400@benn-lls.de
SUMMARY:BINGO-Abend
DESCRIPTION:Ein offener Bingo-Abend mit warmen Getränken\, Snacks und tollen Gewinnen!
URL:https://benn-lls.de/event/bingo-abend-2/
LOCATION:BENN Büro\, Louis-Lewin-Straße 101\, Berlin\, 12627\, Germany
ATTACH;FMTTYPE=image/png:https://benn-lls.de/wordpress/wp-content/uploads/2026/02/bingo-0502-1.png
END:VEVENT
BEGIN:VEVENT
DTSTART;TZID=Europe/Berlin:20260209T100000
DTEND;TZID=Europe/Berlin:20260209T120000
DTSTAMP:20260422T162600
CREATED:20260203T161517Z
LAST-MODIFIED:20260203T161517Z
UID:2258-1770631200-1770638400@benn-lls.de
SUMMARY:Nordic Walking für 50+
DESCRIPTION:Treffpunkt ist am Stadtteilzentrum Hellersdorf-Ost\, Albert-Kuntz-Straße 42.
URL:https://benn-lls.de/event/nordic-walking-fuer-50-21/
LOCATION:Stadtteilzentrum Hellersdorf-Ost\, Albert-Kuntz-Straße 42\, 12627 Berlin
ATTACH;FMTTYPE=image/png:https://benn-lls.de/wordpress/wp-content/uploads/2025/06/Nordic-Walking.png
END:VEVENT
BEGIN:VEVENT
DTSTART;TZID=Europe/Berlin:20260209T150000
DTEND;TZID=Europe/Berlin:20260209T160000
DTSTAMP:20260422T162600
CREATED:20260203T161753Z
LAST-MODIFIED:20260203T161753Z
UID:2270-1770649200-1770652800@benn-lls.de
SUMMARY:Musik für Kinder von 6-12 Jahren
DESCRIPTION:Wir machen Musik\, singen und tanzen. Für Kinder zwischen 6 und 12 Jahren. \nKeine Vorkenntnisse nötig! Das Angebot ist kostenlos.
URL:https://benn-lls.de/event/musik-fuer-kinder-von-6-12-jahren-6/
ATTACH;FMTTYPE=image/png:https://benn-lls.de/wordpress/wp-content/uploads/2025/11/2.png
END:VEVENT
BEGIN:VEVENT
DTSTART;TZID=Europe/Berlin:20260209T160000
DTEND;TZID=Europe/Berlin:20260209T163000
DTSTAMP:20260422T162600
CREATED:20260203T161702Z
LAST-MODIFIED:20260203T161702Z
UID:2264-1770652800-1770654600@benn-lls.de
SUMMARY:Musik für Kinder von 3-5 Jahren
DESCRIPTION:Wir machen Musik\, singen und tanzen. Für Kinder zwischen 3 und 5 Jahren. \nKeine Vorkenntnisse nötig! Das Angebot ist kostenlos.
URL:https://benn-lls.de/event/musik-fuer-kinder-von-3-5-jahren-6/
ATTACH;FMTTYPE=image/png:https://benn-lls.de/wordpress/wp-content/uploads/2025/11/3.png
END:VEVENT
BEGIN:VEVENT
DTSTART;TZID=Europe/Berlin:20260209T170000
DTEND;TZID=Europe/Berlin:20260209T200000
DTSTAMP:20260422T162600
CREATED:20260203T161947Z
LAST-MODIFIED:20260203T161947Z
UID:2280-1770656400-1770667200@benn-lls.de
SUMMARY:Spiele-Abend
DESCRIPTION:Klassisches und chinesisches Schach\, Kartenspiele und worauf ihr sonst noch Lust habt! \nEs gibt Snacks und Getränke. Das Angebot ist kostenlos.
URL:https://benn-lls.de/event/spiele-abend-20/
LOCATION:BENN Büro\, Louis-Lewin-Straße 101\, Berlin\, 12627\, Germany
ATTACH;FMTTYPE=image/png:https://benn-lls.de/wordpress/wp-content/uploads/2025/06/Schach-Abend-ohne-Termin.png
END:VEVENT
BEGIN:VEVENT
DTSTART;TZID=Europe/Berlin:20260211T150000
DTEND;TZID=Europe/Berlin:20260211T170000
DTSTAMP:20260422T162600
CREATED:20260203T162317Z
LAST-MODIFIED:20260203T162317Z
UID:2289-1770822000-1770829200@benn-lls.de
SUMMARY:Frauen-Treff (mit Kinderbetreuung)
DESCRIPTION:Kaffee\, Kekse\, Spiele  – komm vorbei! Alle Frauen* sind willkommen. Wir tauschen uns aus\, verbessern unser Deutsch und unterstützen uns gegenseitig. \nMit Kinderbetreuung.
URL:https://benn-lls.de/event/frauen-treff-mit-kinderbetreuung-36/
LOCATION:BENN Büro\, Louis-Lewin-Straße 101\, Berlin\, 12627\, Germany
ATTACH;FMTTYPE=image/png:https://benn-lls.de/wordpress/wp-content/uploads/2025/04/Frauentreff.png
END:VEVENT
BEGIN:VEVENT
DTSTART;TZID=Europe/Berlin:20260211T163000
DTEND;TZID=Europe/Berlin:20260211T193000
DTSTAMP:20260422T162600
CREATED:20260203T161902Z
LAST-MODIFIED:20260203T161902Z
UID:2276-1770827400-1770838200@benn-lls.de
SUMMARY:Trickfilm-Abend
DESCRIPTION:Auftakt am 19.1.\, 17 – 19Uhr \nHabt ihr Lust auf einen Trickfilmkurs im BENN-Büro? \nWir suchen Anwohner:innen\, die seit 1985 nach Hellersdorf gezogen sind. Erzählen Sie uns Ihre Geschichte über Erstbezug\, Umzug\, Ankommen und Dasein und wir machen daraus zusammen einen Trickfilm. \nWir bieten: Trickfilmkurs mit professionellen Künstler:innen im BENN-Büro am Mo. 19.1.2026 von 17:00 bis 19:00 Uhr und Mittwochs 28.1.\, 11.2.\, 25.2.\, 11.3.\, 25.3.\, 8.4.\, 22.4.\, immer von 17:30 bis 19:30 Uhr. Sie können jederzeit dazukommen. Wir bezahlen 20 € pro Abend für jede teilnehmende Person/Familie. \nAls Beispiel hier einer unserer Trickfilme: https://trixmix.tv/comics/91ec29fee8e4681b72b92281f529b4c1_34.mp4
URL:https://benn-lls.de/event/trickfilm-abend-2/
ATTACH;FMTTYPE=image/jpeg:https://benn-lls.de/wordpress/wp-content/uploads/2026/01/1.jpg
END:VEVENT
BEGIN:VEVENT
DTSTART;TZID=Europe/Berlin:20260212T150000
DTEND;TZID=Europe/Berlin:20260212T180000
DTSTAMP:20260422T162600
CREATED:20260203T162538Z
LAST-MODIFIED:20260203T162645Z
UID:2295-1770908400-1770919200@benn-lls.de
SUMMARY:Nachbarschaftscafé
DESCRIPTION:Kaffee\, Spiele und Nachbarn kennenlernen. Unser offenes Café findet jeden Donnerstag statt\, wir freuen uns auf dich!
URL:https://benn-lls.de/event/nachbarschaftscafe-30/
LOCATION:BENN Büro\, Louis-Lewin-Straße 101\, Berlin\, 12627\, Germany
ATTACH;FMTTYPE=image/png:https://benn-lls.de/wordpress/wp-content/uploads/2026/02/Nachbarschaftscafe.png
END:VEVENT
BEGIN:VEVENT
DTSTART;TZID=Europe/Berlin:20260212T173000
DTEND;TZID=Europe/Berlin:20260212T190000
DTSTAMP:20260422T162600
CREATED:20260203T162825Z
LAST-MODIFIED:20260203T164023Z
UID:2302-1770917400-1770922800@benn-lls.de
SUMMARY:Film-Abend
DESCRIPTION:Kommt vorbei für einen gemütlichen Film-Abend mit Popcorn und Snacks! \nDieses Mal schauen wir uns den Film „Sonnenallee” an. Der Film spielt in Ost-Berlin in den 70er Jahren: Der 17-jährige Michael lebt in der Sonnenallee\, deren längeres Ende im Westen liegt. Sein Leben dreht sich um seine Freunde\, Musik\, Schule und die schöne Miriam… \nWir zeigen den Film auf Deutsch mit deutschen Untertiteln. \n 
URL:https://benn-lls.de/event/film-abend-2/
ATTACH;FMTTYPE=image/png:https://benn-lls.de/wordpress/wp-content/uploads/2026/02/Filmabend-1202.png
END:VEVENT
BEGIN:VEVENT
DTSTART;TZID=Europe/Berlin:20260216T100000
DTEND;TZID=Europe/Berlin:20260216T120000
DTSTAMP:20260422T162600
CREATED:20260203T161540Z
LAST-MODIFIED:20260203T161559Z
UID:2260-1771236000-1771243200@benn-lls.de
SUMMARY:Nordic Walking für 50+
DESCRIPTION:Treffpunkt ist am Stadtteilzentrum Hellersdorf-Ost\, Albert-Kuntz-Straße 42.
URL:https://benn-lls.de/event/nordic-walking-fuer-50-22/
LOCATION:Stadtteilzentrum Hellersdorf-Ost\, Albert-Kuntz-Straße 42\, 12627 Berlin
ATTACH;FMTTYPE=image/png:https://benn-lls.de/wordpress/wp-content/uploads/2025/06/Nordic-Walking.png
END:VEVENT
BEGIN:VEVENT
DTSTART;TZID=Europe/Berlin:20260216T150000
DTEND;TZID=Europe/Berlin:20260216T160000
DTSTAMP:20260422T162600
CREATED:20260203T161809Z
LAST-MODIFIED:20260203T161809Z
UID:2272-1771254000-1771257600@benn-lls.de
SUMMARY:Musik für Kinder von 6-12 Jahren
DESCRIPTION:Wir machen Musik\, singen und tanzen. Für Kinder zwischen 6 und 12 Jahren. \nKeine Vorkenntnisse nötig! Das Angebot ist kostenlos.
URL:https://benn-lls.de/event/musik-fuer-kinder-von-6-12-jahren-7/
ATTACH;FMTTYPE=image/png:https://benn-lls.de/wordpress/wp-content/uploads/2025/11/2.png
END:VEVENT
BEGIN:VEVENT
DTSTART;TZID=Europe/Berlin:20260216T160000
DTEND;TZID=Europe/Berlin:20260216T163000
DTSTAMP:20260422T162600
CREATED:20260203T161721Z
LAST-MODIFIED:20260203T161721Z
UID:2266-1771257600-1771259400@benn-lls.de
SUMMARY:Musik für Kinder von 3-5 Jahren
DESCRIPTION:Wir machen Musik\, singen und tanzen. Für Kinder zwischen 3 und 5 Jahren. \nKeine Vorkenntnisse nötig! Das Angebot ist kostenlos.
URL:https://benn-lls.de/event/musik-fuer-kinder-von-3-5-jahren-7/
ATTACH;FMTTYPE=image/png:https://benn-lls.de/wordpress/wp-content/uploads/2025/11/3.png
END:VEVENT
BEGIN:VEVENT
DTSTART;TZID=Europe/Berlin:20260218T150000
DTEND;TZID=Europe/Berlin:20260218T170000
DTSTAMP:20260422T162600
CREATED:20260203T162340Z
LAST-MODIFIED:20260203T162340Z
UID:2291-1771426800-1771434000@benn-lls.de
SUMMARY:Frauen-Treff (mit Kinderbetreuung)
DESCRIPTION:Kaffee\, Kekse\, Spiele  – komm vorbei! Alle Frauen* sind willkommen. Wir tauschen uns aus\, verbessern unser Deutsch und unterstützen uns gegenseitig. \nMit Kinderbetreuung.
URL:https://benn-lls.de/event/frauen-treff-mit-kinderbetreuung-37/
LOCATION:BENN Büro\, Louis-Lewin-Straße 101\, Berlin\, 12627\, Germany
ATTACH;FMTTYPE=image/png:https://benn-lls.de/wordpress/wp-content/uploads/2025/04/Frauentreff.png
END:VEVENT
BEGIN:VEVENT
DTSTART;TZID=Europe/Berlin:20260219T150000
DTEND;TZID=Europe/Berlin:20260219T180000
DTSTAMP:20260422T162600
CREATED:20260203T162629Z
LAST-MODIFIED:20260203T162629Z
UID:2298-1771513200-1771524000@benn-lls.de
SUMMARY:Nachbarschaftscafé
DESCRIPTION:Kaffee\, Spiele und Nachbarn kennenlernen. Unser offenes Café findet jeden Donnerstag statt\, wir freuen uns auf dich!
URL:https://benn-lls.de/event/nachbarschaftscafe-31/
LOCATION:BENN Büro\, Louis-Lewin-Straße 101\, Berlin\, 12627\, Germany
ATTACH;FMTTYPE=image/png:https://benn-lls.de/wordpress/wp-content/uploads/2026/02/Nachbarschaftscafe.png
END:VEVENT
BEGIN:VEVENT
DTSTART;TZID=Europe/Berlin:20260219T160000
DTEND;TZID=Europe/Berlin:20260219T180000
DTSTAMP:20260422T162600
CREATED:20260203T163746Z
LAST-MODIFIED:20260203T163746Z
UID:2308-1771516800-1771524000@benn-lls.de
SUMMARY:BINGO-Abend
DESCRIPTION:Ein offener Bingo-Abend mit warmen Getränken\, Snacks und tollen Gewinnen!
URL:https://benn-lls.de/event/bingo-abend-3/
LOCATION:BENN Büro\, Louis-Lewin-Straße 101\, Berlin\, 12627\, Germany
ATTACH;FMTTYPE=image/png:https://benn-lls.de/wordpress/wp-content/uploads/2026/02/bingo-1902.png
END:VEVENT
BEGIN:VEVENT
DTSTART;TZID=Europe/Berlin:20260223T100000
DTEND;TZID=Europe/Berlin:20260223T120000
DTSTAMP:20260422T162600
CREATED:20260203T161617Z
LAST-MODIFIED:20260203T161617Z
UID:2262-1771840800-1771848000@benn-lls.de
SUMMARY:Nordic Walking für 50+
DESCRIPTION:Treffpunkt ist am Stadtteilzentrum Hellersdorf-Ost\, Albert-Kuntz-Straße 42.
URL:https://benn-lls.de/event/nordic-walking-fuer-50-23/
LOCATION:Stadtteilzentrum Hellersdorf-Ost\, Albert-Kuntz-Straße 42\, 12627 Berlin
ATTACH;FMTTYPE=image/png:https://benn-lls.de/wordpress/wp-content/uploads/2025/06/Nordic-Walking.png
END:VEVENT
BEGIN:VEVENT
DTSTART;TZID=Europe/Berlin:20260223T150000
DTEND;TZID=Europe/Berlin:20260223T160000
DTSTAMP:20260422T162600
CREATED:20260203T161824Z
LAST-MODIFIED:20260203T161824Z
UID:2274-1771858800-1771862400@benn-lls.de
SUMMARY:Musik für Kinder von 6-12 Jahren
DESCRIPTION:Wir machen Musik\, singen und tanzen. Für Kinder zwischen 6 und 12 Jahren. \nKeine Vorkenntnisse nötig! Das Angebot ist kostenlos.
URL:https://benn-lls.de/event/musik-fuer-kinder-von-6-12-jahren-8/
ATTACH;FMTTYPE=image/png:https://benn-lls.de/wordpress/wp-content/uploads/2025/11/2.png
END:VEVENT
BEGIN:VEVENT
DTSTART;TZID=Europe/Berlin:20260223T160000
DTEND;TZID=Europe/Berlin:20260223T163000
DTSTAMP:20260422T162600
CREATED:20260203T161736Z
LAST-MODIFIED:20260203T161736Z
UID:2268-1771862400-1771864200@benn-lls.de
SUMMARY:Musik für Kinder von 3-5 Jahren
DESCRIPTION:Wir machen Musik\, singen und tanzen. Für Kinder zwischen 3 und 5 Jahren. \nKeine Vorkenntnisse nötig! Das Angebot ist kostenlos.
URL:https://benn-lls.de/event/musik-fuer-kinder-von-3-5-jahren-8/
ATTACH;FMTTYPE=image/png:https://benn-lls.de/wordpress/wp-content/uploads/2025/11/3.png
END:VEVENT
BEGIN:VEVENT
DTSTART;TZID=Europe/Berlin:20260223T170000
DTEND;TZID=Europe/Berlin:20260223T200000
DTSTAMP:20260422T162600
CREATED:20260203T162008Z
LAST-MODIFIED:20260203T162008Z
UID:2282-1771866000-1771876800@benn-lls.de
SUMMARY:Spiele-Abend
DESCRIPTION:Klassisches und chinesisches Schach\, Kartenspiele und worauf ihr sonst noch Lust habt! \nEs gibt Snacks und Getränke. Das Angebot ist kostenlos.
URL:https://benn-lls.de/event/spiele-abend-21/
LOCATION:BENN Büro\, Louis-Lewin-Straße 101\, Berlin\, 12627\, Germany
ATTACH;FMTTYPE=image/png:https://benn-lls.de/wordpress/wp-content/uploads/2025/06/Schach-Abend-ohne-Termin.png
END:VEVENT
BEGIN:VEVENT
DTSTART;TZID=Europe/Berlin:20260225T150000
DTEND;TZID=Europe/Berlin:20260225T170000
DTSTAMP:20260422T162600
CREATED:20260203T162408Z
LAST-MODIFIED:20260203T162408Z
UID:2293-1772031600-1772038800@benn-lls.de
SUMMARY:Frauen-Treff (mit Kinderbetreuung)
DESCRIPTION:Kaffee\, Kekse\, Spiele  – komm vorbei! Alle Frauen* sind willkommen. Wir tauschen uns aus\, verbessern unser Deutsch und unterstützen uns gegenseitig. \nMit Kinderbetreuung.
URL:https://benn-lls.de/event/frauen-treff-mit-kinderbetreuung-38/
LOCATION:BENN Büro\, Louis-Lewin-Straße 101\, Berlin\, 12627\, Germany
ATTACH;FMTTYPE=image/png:https://benn-lls.de/wordpress/wp-content/uploads/2025/04/Frauentreff.png
END:VEVENT
BEGIN:VEVENT
DTSTART;TZID=Europe/Berlin:20260226T150000
DTEND;TZID=Europe/Berlin:20260226T180000
DTSTAMP:20260422T162600
CREATED:20260203T162708Z
LAST-MODIFIED:20260203T162708Z
UID:2300-1772118000-1772128800@benn-lls.de
SUMMARY:Nachbarschaftscafé
DESCRIPTION:Kaffee\, Spiele und Nachbarn kennenlernen. Unser offenes Café findet jeden Donnerstag statt\, wir freuen uns auf dich!
URL:https://benn-lls.de/event/nachbarschaftscafe-32/
LOCATION:BENN Büro\, Louis-Lewin-Straße 101\, Berlin\, 12627\, Germany
ATTACH;FMTTYPE=image/png:https://benn-lls.de/wordpress/wp-content/uploads/2026/02/Nachbarschaftscafe.png
END:VEVENT
END:VCALENDAR