BEGIN:VCALENDAR
VERSION:2.0
PRODID:-//BENN Louis-Lewin-Straße - ECPv6.15.20//NONSGML v1.0//EN
CALSCALE:GREGORIAN
METHOD:PUBLISH
X-WR-CALNAME:BENN Louis-Lewin-Straße
X-ORIGINAL-URL:https://benn-lls.de
X-WR-CALDESC:Veranstaltungen für BENN Louis-Lewin-Straße
REFRESH-INTERVAL;VALUE=DURATION:PT1H
X-Robots-Tag:noindex
X-PUBLISHED-TTL:PT1H
BEGIN:VTIMEZONE
TZID:Europe/Berlin
BEGIN:DAYLIGHT
TZOFFSETFROM:+0100
TZOFFSETTO:+0200
TZNAME:CEST
DTSTART:20240331T010000
END:DAYLIGHT
BEGIN:STANDARD
TZOFFSETFROM:+0200
TZOFFSETTO:+0100
TZNAME:CET
DTSTART:20241027T010000
END:STANDARD
BEGIN:DAYLIGHT
TZOFFSETFROM:+0100
TZOFFSETTO:+0200
TZNAME:CEST
DTSTART:20250330T010000
END:DAYLIGHT
BEGIN:STANDARD
TZOFFSETFROM:+0200
TZOFFSETTO:+0100
TZNAME:CET
DTSTART:20251026T010000
END:STANDARD
BEGIN:DAYLIGHT
TZOFFSETFROM:+0100
TZOFFSETTO:+0200
TZNAME:CEST
DTSTART:20260329T010000
END:DAYLIGHT
BEGIN:STANDARD
TZOFFSETFROM:+0200
TZOFFSETTO:+0100
TZNAME:CET
DTSTART:20261025T010000
END:STANDARD
END:VTIMEZONE
BEGIN:VEVENT
DTSTART;TZID=Europe/Berlin:20251201T100000
DTEND;TZID=Europe/Berlin:20251201T120000
DTSTAMP:20260422T123949
CREATED:20251127T121012Z
LAST-MODIFIED:20251127T121012Z
UID:2113-1764583200-1764590400@benn-lls.de
SUMMARY:Nordic Walking für 50+
DESCRIPTION:Treffpunkt ist am Stadtteilzentrum Hellersdorf-Ost\, Albert-Kuntz-Straße 42.
URL:https://benn-lls.de/event/nordic-walking-fuer-50-15/
LOCATION:Stadtteilzentrum Hellersdorf-Ost\, Albert-Kuntz-Straße 42\, 12627 Berlin
ATTACH;FMTTYPE=image/png:https://benn-lls.de/wordpress/wp-content/uploads/2025/06/Nordic-Walking.png
END:VEVENT
BEGIN:VEVENT
DTSTART;TZID=Europe/Berlin:20251201T150000
DTEND;TZID=Europe/Berlin:20251201T160000
DTSTAMP:20260422T123949
CREATED:20251127T122420Z
LAST-MODIFIED:20251127T122722Z
UID:2121-1764601200-1764604800@benn-lls.de
SUMMARY:Musik für Kinder von 6-12 Jahren
DESCRIPTION:Wir machen Musik\, singen und tanzen. Für Kinder zwischen 6 und 12 Jahren. \nKeine Vorkenntnisse nötig! Das Angebot ist kostenlos.
URL:https://benn-lls.de/event/musik-fuer-kinder-18/
ATTACH;FMTTYPE=image/png:https://benn-lls.de/wordpress/wp-content/uploads/2025/11/2.png
END:VEVENT
BEGIN:VEVENT
DTSTART;TZID=Europe/Berlin:20251201T160000
DTEND;TZID=Europe/Berlin:20251201T163000
DTSTAMP:20260422T123949
CREATED:20251127T122559Z
LAST-MODIFIED:20251127T122704Z
UID:2124-1764604800-1764606600@benn-lls.de
SUMMARY:Musik für Kinder von 3-5 Jahren
DESCRIPTION:Wir machen Musik\, singen und tanzen. Für Kinder zwischen 3 und 5 Jahren. \nKeine Vorkenntnisse nötig! Das Angebot ist kostenlos.
URL:https://benn-lls.de/event/musik-fuer-kinder-19/
ATTACH;FMTTYPE=image/png:https://benn-lls.de/wordpress/wp-content/uploads/2025/11/3.png
END:VEVENT
BEGIN:VEVENT
DTSTART;TZID=Europe/Berlin:20251201T170000
DTEND;TZID=Europe/Berlin:20251201T200000
DTSTAMP:20260422T123949
CREATED:20251127T161451Z
LAST-MODIFIED:20251127T161451Z
UID:2154-1764608400-1764619200@benn-lls.de
SUMMARY:Spiele-Abend
DESCRIPTION:Klassisches und chinesisches Schach\, Kartenspiele und worauf ihr sonst noch Lust habt! \nEs gibt Snacks und Getränke. Das Angebot ist kostenlos.
URL:https://benn-lls.de/event/spiele-abend-16/
LOCATION:BENN Büro\, Louis-Lewin-Straße 101\, Berlin\, 12627\, Germany
ATTACH;FMTTYPE=image/png:https://benn-lls.de/wordpress/wp-content/uploads/2025/06/Schach-Abend-ohne-Termin.png
END:VEVENT
BEGIN:VEVENT
DTSTART;TZID=Europe/Berlin:20251203T150000
DTEND;TZID=Europe/Berlin:20251203T170000
DTSTAMP:20260422T123949
CREATED:20251127T123308Z
LAST-MODIFIED:20251127T123734Z
UID:2139-1764774000-1764781200@benn-lls.de
SUMMARY:Frauen-Treff mit Weihnachtsbasteln
DESCRIPTION:Kaffee\, Kekse\, Spiele  – komm vorbei! Alle Frauen* sind willkommen. Wir tauschen uns aus\, verbessern unser Deutsch und unterstützen uns gegenseitig. \nMit Kinderbetreuung.
URL:https://benn-lls.de/event/frauen-treff-mit-kinderbetreuung-29/
LOCATION:BENN Büro\, Louis-Lewin-Straße 101\, Berlin\, 12627\, Germany
ATTACH;FMTTYPE=image/png:https://benn-lls.de/wordpress/wp-content/uploads/2025/04/Frauentreff.png
END:VEVENT
BEGIN:VEVENT
DTSTART;TZID=Europe/Berlin:20251204T140000
DTEND;TZID=Europe/Berlin:20251204T170000
DTSTAMP:20260422T123949
CREATED:20251127T123930Z
LAST-MODIFIED:20251127T123930Z
UID:2146-1764856800-1764867600@benn-lls.de
SUMMARY:Nachbarschaftscafé
DESCRIPTION:Kaffee\, Spiele und Nachbarn kennenlernen. Unser offenes Café findet jeden Donnerstag statt\, wir freuen uns auf dich!
URL:https://benn-lls.de/event/nachbarschaftscafe-25/
LOCATION:BENN Büro\, Louis-Lewin-Straße 101\, Berlin\, 12627\, Germany
ATTACH;FMTTYPE=image/png:https://benn-lls.de/wordpress/wp-content/uploads/2025/04/Nachbarschaftscafe.png
END:VEVENT
BEGIN:VEVENT
DTSTART;TZID=Europe/Berlin:20251208T100000
DTEND;TZID=Europe/Berlin:20251208T120000
DTSTAMP:20260422T123949
CREATED:20251127T121045Z
LAST-MODIFIED:20251127T121045Z
UID:2115-1765188000-1765195200@benn-lls.de
SUMMARY:Nordic Walking für 50+
DESCRIPTION:Treffpunkt ist am Stadtteilzentrum Hellersdorf-Ost\, Albert-Kuntz-Straße 42.
URL:https://benn-lls.de/event/nordic-walking-fuer-50-16/
LOCATION:Stadtteilzentrum Hellersdorf-Ost\, Albert-Kuntz-Straße 42\, 12627 Berlin
ATTACH;FMTTYPE=image/png:https://benn-lls.de/wordpress/wp-content/uploads/2025/06/Nordic-Walking.png
END:VEVENT
BEGIN:VEVENT
DTSTART;TZID=Europe/Berlin:20251208T150000
DTEND;TZID=Europe/Berlin:20251208T160000
DTSTAMP:20260422T123949
CREATED:20251127T122751Z
LAST-MODIFIED:20251127T122751Z
UID:2129-1765206000-1765209600@benn-lls.de
SUMMARY:Musik für Kinder von 6-12 Jahren
DESCRIPTION:Wir machen Musik\, singen und tanzen. Für Kinder zwischen 6 und 12 Jahren. \nKeine Vorkenntnisse nötig! Das Angebot ist kostenlos.
URL:https://benn-lls.de/event/musik-fuer-kinder-von-6-12-jahren/
ATTACH;FMTTYPE=image/png:https://benn-lls.de/wordpress/wp-content/uploads/2025/11/2.png
END:VEVENT
BEGIN:VEVENT
DTSTART;TZID=Europe/Berlin:20251208T160000
DTEND;TZID=Europe/Berlin:20251208T163000
DTSTAMP:20260422T123949
CREATED:20251127T122831Z
LAST-MODIFIED:20251127T122831Z
UID:2133-1765209600-1765211400@benn-lls.de
SUMMARY:Musik für Kinder von 3-5 Jahren
DESCRIPTION:Wir machen Musik\, singen und tanzen. Für Kinder zwischen 3 und 5 Jahren. \nKeine Vorkenntnisse nötig! Das Angebot ist kostenlos.
URL:https://benn-lls.de/event/musik-fuer-kinder-von-3-5-jahren/
ATTACH;FMTTYPE=image/png:https://benn-lls.de/wordpress/wp-content/uploads/2025/11/3.png
END:VEVENT
BEGIN:VEVENT
DTSTART;TZID=Europe/Berlin:20251210T150000
DTEND;TZID=Europe/Berlin:20251210T170000
DTSTAMP:20260422T123949
CREATED:20251127T123126Z
LAST-MODIFIED:20251127T123820Z
UID:2137-1765378800-1765386000@benn-lls.de
SUMMARY:Frauen-Treff (mit Kinderbetreuung)
DESCRIPTION:Kaffee\, Kekse\, Spiele  – komm vorbei! Alle Frauen* sind willkommen. Wir tauschen uns aus\, verbessern unser Deutsch und unterstützen uns gegenseitig. \nMit Kinderbetreuung.
URL:https://benn-lls.de/event/frauen-treff-mit-kinderbetreuung-28/
LOCATION:BENN Büro\, Louis-Lewin-Straße 101\, Berlin\, 12627\, Germany
ATTACH;FMTTYPE=image/png:https://benn-lls.de/wordpress/wp-content/uploads/2025/04/Frauentreff.png
END:VEVENT
BEGIN:VEVENT
DTSTART;TZID=Europe/Berlin:20251211T150000
DTEND;TZID=Europe/Berlin:20251211T190000
DTSTAMP:20260422T123949
CREATED:20251127T124752Z
LAST-MODIFIED:20251127T125041Z
UID:2150-1765465200-1765479600@benn-lls.de
SUMMARY:Weihnachtsfeier "Großer Advent"
DESCRIPTION:Wir feiern die Adventszeit in der Nachbarschaft rund um die Albert-Kuntz-Straße. \nEs gibt einen Adventsmarkt\, leckeres Essen\, warme Getränke\, Bastelangebote\, Bingo\, fröhliche Musik und Vorführungen. Kommt vorbei!
URL:https://benn-lls.de/event/weihnachtsfeier-grosser-advent/
LOCATION:BENN Büro\, Louis-Lewin-Straße 101\, Berlin\, 12627\, Germany
ATTACH;FMTTYPE=image/png:https://benn-lls.de/wordpress/wp-content/uploads/2025/11/Plakat_Flyer_Grosser_Advent_2025.png
END:VEVENT
BEGIN:VEVENT
DTSTART;TZID=Europe/Berlin:20251215T100000
DTEND;TZID=Europe/Berlin:20251215T120000
DTSTAMP:20260422T123949
CREATED:20251127T121114Z
LAST-MODIFIED:20251127T121424Z
UID:2117-1765792800-1765800000@benn-lls.de
SUMMARY:Nordic Walking für 50+
DESCRIPTION:Treffpunkt ist am Stadtteilzentrum Hellersdorf-Ost\, Albert-Kuntz-Straße 42.
URL:https://benn-lls.de/event/nordic-walking-fuer-50-17/
LOCATION:Stadtteilzentrum Hellersdorf-Ost\, Albert-Kuntz-Straße 42\, 12627 Berlin
ATTACH;FMTTYPE=image/png:https://benn-lls.de/wordpress/wp-content/uploads/2025/06/Nordic-Walking.png
END:VEVENT
BEGIN:VEVENT
DTSTART;TZID=Europe/Berlin:20251215T150000
DTEND;TZID=Europe/Berlin:20251215T160000
DTSTAMP:20260422T123949
CREATED:20251127T122810Z
LAST-MODIFIED:20251127T122810Z
UID:2131-1765810800-1765814400@benn-lls.de
SUMMARY:Musik für Kinder von 6-12 Jahren
DESCRIPTION:Wir machen Musik\, singen und tanzen. Für Kinder zwischen 6 und 12 Jahren. \nKeine Vorkenntnisse nötig! Das Angebot ist kostenlos.
URL:https://benn-lls.de/event/musik-fuer-kinder-von-6-12-jahren-2/
ATTACH;FMTTYPE=image/png:https://benn-lls.de/wordpress/wp-content/uploads/2025/11/2.png
END:VEVENT
BEGIN:VEVENT
DTSTART;TZID=Europe/Berlin:20251215T160000
DTEND;TZID=Europe/Berlin:20251215T163000
DTSTAMP:20260422T123949
CREATED:20251127T122847Z
LAST-MODIFIED:20251127T122847Z
UID:2135-1765814400-1765816200@benn-lls.de
SUMMARY:Musik für Kinder von 3-5 Jahren
DESCRIPTION:Wir machen Musik\, singen und tanzen. Für Kinder zwischen 3 und 5 Jahren. \nKeine Vorkenntnisse nötig! Das Angebot ist kostenlos.
URL:https://benn-lls.de/event/musik-fuer-kinder-von-3-5-jahren-2/
ATTACH;FMTTYPE=image/png:https://benn-lls.de/wordpress/wp-content/uploads/2025/11/3.png
END:VEVENT
BEGIN:VEVENT
DTSTART;TZID=Europe/Berlin:20251215T170000
DTEND;TZID=Europe/Berlin:20251215T200000
DTSTAMP:20260422T123949
CREATED:20251127T161517Z
LAST-MODIFIED:20251127T161517Z
UID:2156-1765818000-1765828800@benn-lls.de
SUMMARY:Spiele-Abend
DESCRIPTION:Klassisches und chinesisches Schach\, Kartenspiele und worauf ihr sonst noch Lust habt! \nEs gibt Snacks und Getränke. Das Angebot ist kostenlos.
URL:https://benn-lls.de/event/spiele-abend-17/
LOCATION:BENN Büro\, Louis-Lewin-Straße 101\, Berlin\, 12627\, Germany
ATTACH;FMTTYPE=image/png:https://benn-lls.de/wordpress/wp-content/uploads/2025/06/Schach-Abend-ohne-Termin.png
END:VEVENT
BEGIN:VEVENT
DTSTART;TZID=Europe/Berlin:20251217T150000
DTEND;TZID=Europe/Berlin:20251217T170000
DTSTAMP:20260422T123949
CREATED:20251127T123340Z
LAST-MODIFIED:20251127T123840Z
UID:2141-1765983600-1765990800@benn-lls.de
SUMMARY:Frauen-Treff (mit Kinderbetreuung)
DESCRIPTION:Kaffee\, Kekse\, Spiele  – komm vorbei! Alle Frauen* sind willkommen. Wir tauschen uns aus\, verbessern unser Deutsch und unterstützen uns gegenseitig. \nMit Kinderbetreuung.
URL:https://benn-lls.de/event/frauen-treff-mit-kinderbetreuung-30/
LOCATION:BENN Büro\, Louis-Lewin-Straße 101\, Berlin\, 12627\, Germany
ATTACH;FMTTYPE=image/png:https://benn-lls.de/wordpress/wp-content/uploads/2025/04/Frauentreff.png
END:VEVENT
BEGIN:VEVENT
DTSTART;TZID=Europe/Berlin:20251218T140000
DTEND;TZID=Europe/Berlin:20251218T170000
DTSTAMP:20260422T123949
CREATED:20251127T124019Z
LAST-MODIFIED:20251127T124019Z
UID:2148-1766066400-1766077200@benn-lls.de
SUMMARY:Nachbarschaftscafé
DESCRIPTION:Kaffee\, Spiele und Nachbarn kennenlernen. Unser offenes Café findet jeden Donnerstag statt\, wir freuen uns auf dich!
URL:https://benn-lls.de/event/nachbarschaftscafe-26/
LOCATION:BENN Büro\, Louis-Lewin-Straße 101\, Berlin\, 12627\, Germany
ATTACH;FMTTYPE=image/png:https://benn-lls.de/wordpress/wp-content/uploads/2025/04/Nachbarschaftscafe.png
END:VEVENT
END:VCALENDAR