BEGIN:VCALENDAR
VERSION:2.0
PRODID:-//BENN Louis-Lewin-Straße - ECPv6.15.20//NONSGML v1.0//EN
CALSCALE:GREGORIAN
METHOD:PUBLISH
X-ORIGINAL-URL:https://benn-lls.de
X-WR-CALDESC:Veranstaltungen für BENN Louis-Lewin-Straße
REFRESH-INTERVAL;VALUE=DURATION:PT1H
X-Robots-Tag:noindex
X-PUBLISHED-TTL:PT1H
BEGIN:VTIMEZONE
TZID:Europe/Berlin
BEGIN:DAYLIGHT
TZOFFSETFROM:+0100
TZOFFSETTO:+0200
TZNAME:CEST
DTSTART:20240331T010000
END:DAYLIGHT
BEGIN:STANDARD
TZOFFSETFROM:+0200
TZOFFSETTO:+0100
TZNAME:CET
DTSTART:20241027T010000
END:STANDARD
BEGIN:DAYLIGHT
TZOFFSETFROM:+0100
TZOFFSETTO:+0200
TZNAME:CEST
DTSTART:20250330T010000
END:DAYLIGHT
BEGIN:STANDARD
TZOFFSETFROM:+0200
TZOFFSETTO:+0100
TZNAME:CET
DTSTART:20251026T010000
END:STANDARD
BEGIN:DAYLIGHT
TZOFFSETFROM:+0100
TZOFFSETTO:+0200
TZNAME:CEST
DTSTART:20260329T010000
END:DAYLIGHT
BEGIN:STANDARD
TZOFFSETFROM:+0200
TZOFFSETTO:+0100
TZNAME:CET
DTSTART:20261025T010000
END:STANDARD
END:VTIMEZONE
BEGIN:VEVENT
DTSTART;TZID=Europe/Berlin:20251103T150000
DTEND;TZID=Europe/Berlin:20251103T160000
DTSTAMP:20260420T224158
CREATED:20251028T121028Z
LAST-MODIFIED:20251103T104859Z
UID:1705-1762182000-1762185600@benn-lls.de
SUMMARY:Musik für Kinder
DESCRIPTION:Wir machen Musik\, singen und tanzen. Für Kinder zwischen 6 und 12 Jahren. \nKeine Vorkenntnisse nötig! Das Angebot ist kostenlos.
URL:https://benn-lls.de/event/musik-fuer-kinder-14/
ATTACH;FMTTYPE=image/png:https://benn-lls.de/wordpress/wp-content/uploads/2025/04/Musikkurs.png
END:VEVENT
BEGIN:VEVENT
DTSTART;TZID=Europe/Berlin:20251103T160000
DTEND;TZID=Europe/Berlin:20251103T173000
DTSTAMP:20260420T224158
CREATED:20251028T121619Z
LAST-MODIFIED:20251028T121619Z
UID:2080-1762185600-1762191000@benn-lls.de
SUMMARY:Selbstbehauptungsworkshop für Mädchen (8-11 Jahren)
DESCRIPTION:Wendo – Selbstbehauptung für Mädchen \n\n\n\nWie kann ich meinem Bauchgefühl vertrauen?\nWie kann ich mich im Alltag sicher und mutig fühlen?\nWie kann ich in blöden Situationen „Nein“ sagen?\n\n\nFür Mädchen von 8 – 11 Jahren\nWendo Berlin-Brandenburg (wendo-bb.de) führt den Workshop durch\nAnmeldung erwünscht
URL:https://benn-lls.de/event/selbstbehauptungsworkshop-fuer-maedchen-8-11-jahren-2/
LOCATION:BENN Büro\, Louis-Lewin-Straße 101\, Berlin\, 12627\, Germany
ATTACH;FMTTYPE=image/png:https://benn-lls.de/wordpress/wp-content/uploads/2025/09/Wendo.png
END:VEVENT
BEGIN:VEVENT
DTSTART;TZID=Europe/Berlin:20251105T150000
DTEND;TZID=Europe/Berlin:20251105T170000
DTSTAMP:20260420T224158
CREATED:20251028T115757Z
LAST-MODIFIED:20251028T115757Z
UID:2049-1762354800-1762362000@benn-lls.de
SUMMARY:Frauen-Treff mit Kinderbetreuung
DESCRIPTION:Kaffee\, Kekse\, Spiele  – komm vorbei! Alle Frauen* sind willkommen. Wir tauschen uns aus\, verbessern unser Deutsch und unterstützen uns gegenseitig. \nMit Kinderbetreuung.
URL:https://benn-lls.de/event/frauen-treff-mit-kinderbetreuung-24/
LOCATION:BENN Büro\, Louis-Lewin-Straße 101\, Berlin\, 12627\, Germany
ATTACH;FMTTYPE=image/png:https://benn-lls.de/wordpress/wp-content/uploads/2025/04/Frauentreff.png
END:VEVENT
BEGIN:VEVENT
DTSTART;TZID=Europe/Berlin:20251105T150000
DTEND;TZID=Europe/Berlin:20251105T170000
DTSTAMP:20260420T224158
CREATED:20251028T125033Z
LAST-MODIFIED:20251028T125033Z
UID:2083-1762354800-1762362000@benn-lls.de
SUMMARY:Park-Spaziergang für Frauen
DESCRIPTION:Wir spazieren durch die Parks in Hellersdorf und tauschen uns aus über unsere Eindrücke und Sicherheit im öffentlichen Raum.
URL:https://benn-lls.de/event/park-spaziergang-fuer-frauen/
LOCATION:BENN Büro\, Louis-Lewin-Straße 101\, Berlin\, 12627\, Germany
ATTACH;FMTTYPE=image/png:https://benn-lls.de/wordpress/wp-content/uploads/2025/10/Alle-Workshops-3.png
END:VEVENT
BEGIN:VEVENT
DTSTART;TZID=Europe/Berlin:20251106T140000
DTEND;TZID=Europe/Berlin:20251106T170000
DTSTAMP:20260420T224158
CREATED:20251028T121357Z
LAST-MODIFIED:20251028T121357Z
UID:2073-1762437600-1762448400@benn-lls.de
SUMMARY:Nachbarschaftscafé
DESCRIPTION:Kaffee\, Spiele und Nachbarn kennenlernen. Unser offenes Café findet jeden Donnerstag statt\, wir freuen uns auf dich!
URL:https://benn-lls.de/event/nachbarschaftscafe-21/
LOCATION:BENN Büro\, Louis-Lewin-Straße 101\, Berlin\, 12627\, Germany
ATTACH;FMTTYPE=image/png:https://benn-lls.de/wordpress/wp-content/uploads/2025/04/Nachbarschaftscafe.png
END:VEVENT
BEGIN:VEVENT
DTSTART;TZID=Europe/Berlin:20251110T150000
DTEND;TZID=Europe/Berlin:20251110T160000
DTSTAMP:20260420T224158
CREATED:20251028T121116Z
LAST-MODIFIED:20251103T104941Z
UID:2067-1762786800-1762790400@benn-lls.de
SUMMARY:Musik für Kinder
DESCRIPTION:Wir machen Musik\, singen und tanzen. Für Kinder zwischen 6 und 12 Jahren. \nKeine Vorkenntnisse nötig! Das Angebot ist kostenlos.
URL:https://benn-lls.de/event/musik-fuer-kinder-15/
ATTACH;FMTTYPE=image/png:https://benn-lls.de/wordpress/wp-content/uploads/2025/04/Musikkurs.png
END:VEVENT
BEGIN:VEVENT
DTSTART;TZID=Europe/Berlin:20251112T150000
DTEND;TZID=Europe/Berlin:20251112T170000
DTSTAMP:20260420T224158
CREATED:20251028T115837Z
LAST-MODIFIED:20251028T115837Z
UID:2051-1762959600-1762966800@benn-lls.de
SUMMARY:Frauen-Treff mit Kinderbetreuung
DESCRIPTION:Kaffee\, Kekse\, Spiele  – komm vorbei! Alle Frauen* sind willkommen. Wir tauschen uns aus\, verbessern unser Deutsch und unterstützen uns gegenseitig. \nMit Kinderbetreuung.
URL:https://benn-lls.de/event/frauen-treff-mit-kinderbetreuung-25/
LOCATION:BENN Büro\, Louis-Lewin-Straße 101\, Berlin\, 12627\, Germany
ATTACH;FMTTYPE=image/png:https://benn-lls.de/wordpress/wp-content/uploads/2025/04/Frauentreff.png
END:VEVENT
BEGIN:VEVENT
DTSTART;TZID=Europe/Berlin:20251113T140000
DTEND;TZID=Europe/Berlin:20251113T170000
DTSTAMP:20260420T224158
CREATED:20251028T121425Z
LAST-MODIFIED:20251028T132527Z
UID:2074-1763042400-1763053200@benn-lls.de
SUMMARY:Nachbarschaftscafé mit Strom-Sparberatung
DESCRIPTION:Kaffee\, Spiele und Nachbarn kennenlernen. Unser offenes Café findet jeden Donnerstag statt\, wir freuen uns auf dich! \nDieses Mal mit Stromsparberatung ab 16 Uhr.
URL:https://benn-lls.de/event/nachbarschaftscafe-22/
LOCATION:BENN Büro\, Louis-Lewin-Straße 101\, Berlin\, 12627\, Germany
ATTACH;FMTTYPE=image/png:https://benn-lls.de/wordpress/wp-content/uploads/2025/04/Nachbarschaftscafe.png
END:VEVENT
BEGIN:VEVENT
DTSTART;TZID=Europe/Berlin:20251113T160000
DTEND;TZID=Europe/Berlin:20251113T190000
DTSTAMP:20260420T224158
CREATED:20251028T120047Z
LAST-MODIFIED:20251028T120047Z
UID:2057-1763049600-1763060400@benn-lls.de
SUMMARY:Nachbarschafts-Kochabend
DESCRIPTION:Die Nachbar*innen kommen und kochen gemeinsam interkulturelle Gerichte\, tauschen Rezepte und Erfahrungen aus. \nAlle Ideen sind willkommen. Das Angebot ist kostenfrei. Komm vorbei und mach mit!
URL:https://benn-lls.de/event/nachbarschafts-kochabend-8/
LOCATION:BENN Büro\, Louis-Lewin-Straße 101\, Berlin\, 12627\, Germany
ATTACH;FMTTYPE=image/png:https://benn-lls.de/wordpress/wp-content/uploads/2025/06/Kochabend-IG-Post.png
END:VEVENT
BEGIN:VEVENT
DTSTART;TZID=Europe/Berlin:20251117T150000
DTEND;TZID=Europe/Berlin:20251117T160000
DTSTAMP:20260420T224158
CREATED:20251028T121131Z
LAST-MODIFIED:20251103T105007Z
UID:2068-1763391600-1763395200@benn-lls.de
SUMMARY:Musik für Kinder
DESCRIPTION:Wir machen Musik\, singen und tanzen. Für Kinder zwischen 6 und 12 Jahren. \nKeine Vorkenntnisse nötig! Das Angebot ist kostenlos.
URL:https://benn-lls.de/event/musik-fuer-kinder-16/
ATTACH;FMTTYPE=image/png:https://benn-lls.de/wordpress/wp-content/uploads/2025/04/Musikkurs.png
END:VEVENT
BEGIN:VEVENT
DTSTART;TZID=Europe/Berlin:20251119T150000
DTEND;TZID=Europe/Berlin:20251119T170000
DTSTAMP:20260420T224158
CREATED:20251028T115903Z
LAST-MODIFIED:20251028T115903Z
UID:2052-1763564400-1763571600@benn-lls.de
SUMMARY:Frauen-Treff mit Kinderbetreuung
DESCRIPTION:Kaffee\, Kekse\, Spiele  – komm vorbei! Alle Frauen* sind willkommen. Wir tauschen uns aus\, verbessern unser Deutsch und unterstützen uns gegenseitig. \nMit Kinderbetreuung.
URL:https://benn-lls.de/event/frauen-treff-mit-kinderbetreuung-26/
LOCATION:BENN Büro\, Louis-Lewin-Straße 101\, Berlin\, 12627\, Germany
ATTACH;FMTTYPE=image/png:https://benn-lls.de/wordpress/wp-content/uploads/2025/04/Frauentreff.png
END:VEVENT
BEGIN:VEVENT
DTSTART;TZID=Europe/Berlin:20251119T160000
DTEND;TZID=Europe/Berlin:20251119T180000
DTSTAMP:20260420T224158
CREATED:20251028T125250Z
LAST-MODIFIED:20251028T125250Z
UID:2086-1763568000-1763575200@benn-lls.de
SUMMARY:Beauty-Salon
DESCRIPTION:Ein Tag voller gemeinsamer Haarschnitte und Nagellackierungen\, angeboten von unseren Nachbar*innen. \nDie Aktion basiert auf Spenden. Kommt vorbei und genießt die Zeit miteinander!
URL:https://benn-lls.de/event/beauty-salon-2/
LOCATION:BENN Büro\, Louis-Lewin-Straße 101\, Berlin\, 12627\, Germany
ATTACH;FMTTYPE=image/png:https://benn-lls.de/wordpress/wp-content/uploads/2025/10/Alle-Workshops-4.png
END:VEVENT
BEGIN:VEVENT
DTSTART;TZID=Europe/Berlin:20251120T140000
DTEND;TZID=Europe/Berlin:20251120T170000
DTSTAMP:20260420T224158
CREATED:20251028T121444Z
LAST-MODIFIED:20251028T121444Z
UID:2076-1763647200-1763658000@benn-lls.de
SUMMARY:Nachbarschaftscafé
DESCRIPTION:Kaffee\, Spiele und Nachbarn kennenlernen. Unser offenes Café findet jeden Donnerstag statt\, wir freuen uns auf dich!
URL:https://benn-lls.de/event/nachbarschaftscafe-23/
LOCATION:BENN Büro\, Louis-Lewin-Straße 101\, Berlin\, 12627\, Germany
ATTACH;FMTTYPE=image/png:https://benn-lls.de/wordpress/wp-content/uploads/2025/04/Nachbarschaftscafe.png
END:VEVENT
BEGIN:VEVENT
DTSTART;TZID=Europe/Berlin:20251124T150000
DTEND;TZID=Europe/Berlin:20251124T160000
DTSTAMP:20260420T224158
CREATED:20251028T121204Z
LAST-MODIFIED:20251103T105028Z
UID:2071-1763996400-1764000000@benn-lls.de
SUMMARY:Musik für Kinder
DESCRIPTION:Wir machen Musik\, singen und tanzen. Für Kinder zwischen 6 und 12 Jahren. \nKeine Vorkenntnisse nötig! Das Angebot ist kostenlos.
URL:https://benn-lls.de/event/musik-fuer-kinder-17/
ATTACH;FMTTYPE=image/png:https://benn-lls.de/wordpress/wp-content/uploads/2025/04/Musikkurs.png
END:VEVENT
BEGIN:VEVENT
DTSTART;TZID=Europe/Berlin:20251124T170000
DTEND;TZID=Europe/Berlin:20251124T200000
DTSTAMP:20260420T224158
CREATED:20251028T120927Z
LAST-MODIFIED:20251028T120927Z
UID:2061-1764003600-1764014400@benn-lls.de
SUMMARY:Spiele-Abend
DESCRIPTION:Klassisches und chinesisches Schach\, Kartenspiele und worauf ihr sonst noch Lust habt! \nEs gibt Snacks und Getränke. Das Angebot ist kostenlos.
URL:https://benn-lls.de/event/spiele-abend-15/
LOCATION:BENN Büro\, Louis-Lewin-Straße 101\, Berlin\, 12627\, Germany
ATTACH;FMTTYPE=image/png:https://benn-lls.de/wordpress/wp-content/uploads/2025/06/Schach-Abend-ohne-Termin.png
END:VEVENT
BEGIN:VEVENT
DTSTART;TZID=Europe/Berlin:20251126T150000
DTEND;TZID=Europe/Berlin:20251126T170000
DTSTAMP:20260420T224158
CREATED:20251028T115922Z
LAST-MODIFIED:20251028T115924Z
UID:2053-1764169200-1764176400@benn-lls.de
SUMMARY:Frauen-Treff mit Kinderbetreuung
DESCRIPTION:Kaffee\, Kekse\, Spiele  – komm vorbei! Alle Frauen* sind willkommen. Wir tauschen uns aus\, verbessern unser Deutsch und unterstützen uns gegenseitig. \nMit Kinderbetreuung.
URL:https://benn-lls.de/event/frauen-treff-mit-kinderbetreuung-27/
LOCATION:BENN Büro\, Louis-Lewin-Straße 101\, Berlin\, 12627\, Germany
ATTACH;FMTTYPE=image/png:https://benn-lls.de/wordpress/wp-content/uploads/2025/04/Frauentreff.png
END:VEVENT
BEGIN:VEVENT
DTSTART;TZID=Europe/Berlin:20251127T140000
DTEND;TZID=Europe/Berlin:20251127T170000
DTSTAMP:20260420T224158
CREATED:20251028T121513Z
LAST-MODIFIED:20251103T105213Z
UID:1530-1764252000-1764262800@benn-lls.de
SUMMARY:Nachbarschaftscafé
DESCRIPTION:Kaffee\, Spiele und Nachbarn kennenlernen. Unser offenes Café findet jeden Donnerstag statt\, wir freuen uns auf dich!
URL:https://benn-lls.de/event/nachbarschaftscafe-24/
ATTACH;FMTTYPE=image/png:https://benn-lls.de/wordpress/wp-content/uploads/2025/04/Nachbarschaftscafe.png
END:VEVENT
BEGIN:VEVENT
DTSTART;TZID=Europe/Berlin:20251127T180000
DTEND;TZID=Europe/Berlin:20251127T193000
DTSTAMP:20260420T224158
CREATED:20251028T120845Z
LAST-MODIFIED:20251127T120734Z
UID:2059-1764266400-1764271800@benn-lls.de
SUMMARY:Weihnachtlicher Film-Abend
DESCRIPTION:Kommt vorbei für einen gemütlichen Film-Abend mit Popcorn und Snacks! Wir zeigen Der Grinch (2000).
URL:https://benn-lls.de/event/weihnachtlicher-film-abend/
ATTACH;FMTTYPE=image/png:https://benn-lls.de/wordpress/wp-content/uploads/2025/10/Der-Grinch-png.png
END:VEVENT
END:VCALENDAR