BEGIN:VCALENDAR
VERSION:2.0
PRODID:-//BENN Louis-Lewin-Straße - ECPv6.15.20//NONSGML v1.0//EN
CALSCALE:GREGORIAN
METHOD:PUBLISH
X-ORIGINAL-URL:https://benn-lls.de
X-WR-CALDESC:Veranstaltungen für BENN Louis-Lewin-Straße
REFRESH-INTERVAL;VALUE=DURATION:PT1H
X-Robots-Tag:noindex
X-PUBLISHED-TTL:PT1H
BEGIN:VTIMEZONE
TZID:Europe/Berlin
BEGIN:DAYLIGHT
TZOFFSETFROM:+0100
TZOFFSETTO:+0200
TZNAME:CEST
DTSTART:20240331T010000
END:DAYLIGHT
BEGIN:STANDARD
TZOFFSETFROM:+0200
TZOFFSETTO:+0100
TZNAME:CET
DTSTART:20241027T010000
END:STANDARD
BEGIN:DAYLIGHT
TZOFFSETFROM:+0100
TZOFFSETTO:+0200
TZNAME:CEST
DTSTART:20250330T010000
END:DAYLIGHT
BEGIN:STANDARD
TZOFFSETFROM:+0200
TZOFFSETTO:+0100
TZNAME:CET
DTSTART:20251026T010000
END:STANDARD
BEGIN:DAYLIGHT
TZOFFSETFROM:+0100
TZOFFSETTO:+0200
TZNAME:CEST
DTSTART:20260329T010000
END:DAYLIGHT
BEGIN:STANDARD
TZOFFSETFROM:+0200
TZOFFSETTO:+0100
TZNAME:CET
DTSTART:20261025T010000
END:STANDARD
END:VTIMEZONE
BEGIN:VEVENT
DTSTART;TZID=Europe/Berlin:20251001T150000
DTEND;TZID=Europe/Berlin:20251001T170000
DTSTAMP:20260420T224203
CREATED:20250930T093701Z
LAST-MODIFIED:20250930T093701Z
UID:1990-1759330800-1759338000@benn-lls.de
SUMMARY:Frauen-Treff mit Kinderbetreuung
DESCRIPTION:Kaffee\, Kekse\, Spiele  – komm vorbei! Alle Frauen* sind willkommen. Wir tauschen uns aus\, verbessern unser Deutsch und unterstützen uns gegenseitig. \nMit Kinderbetreuung.
URL:https://benn-lls.de/event/frauen-treff-mit-kinderbetreuung-19/
LOCATION:BENN Büro\, Louis-Lewin-Straße 101\, Berlin\, 12627\, Germany
ATTACH;FMTTYPE=image/png:https://benn-lls.de/wordpress/wp-content/uploads/2025/04/Frauentreff.png
END:VEVENT
BEGIN:VEVENT
DTSTART;TZID=Europe/Berlin:20251002T140000
DTEND;TZID=Europe/Berlin:20251002T170000
DTSTAMP:20260420T224203
CREATED:20250930T094329Z
LAST-MODIFIED:20250930T094329Z
UID:2004-1759413600-1759424400@benn-lls.de
SUMMARY:Nachbarschaftscafé
DESCRIPTION:Kaffee\, Spiele und Nachbarn kennenlernen. Unser offenes Café findet jeden Donnerstag statt\, wir freuen uns auf dich!
URL:https://benn-lls.de/event/nachbarschaftscafe-17/
LOCATION:BENN Büro\, Louis-Lewin-Straße 101\, Berlin\, 12627\, Germany
ATTACH;FMTTYPE=image/png:https://benn-lls.de/wordpress/wp-content/uploads/2025/04/Nachbarschaftscafe.png
END:VEVENT
BEGIN:VEVENT
DTSTART;TZID=Europe/Berlin:20251006T100000
DTEND;TZID=Europe/Berlin:20251006T120000
DTSTAMP:20260420T224203
CREATED:20250930T092228Z
LAST-MODIFIED:20250930T092228Z
UID:1954-1759744800-1759752000@benn-lls.de
SUMMARY:Nordic Walking für 50+
DESCRIPTION:Treffpunkt ist am Stadtteilzentrum Hellersdorf-Ost\, Albert-Kuntz-Straße 42.
URL:https://benn-lls.de/event/nordic-walking-fuer-50-11/
LOCATION:Stadtteilzentrum Hellersdorf-Ost\, Albert-Kuntz-Straße 42\, 12627 Berlin
ATTACH;FMTTYPE=image/png:https://benn-lls.de/wordpress/wp-content/uploads/2025/06/Nordic-Walking.png
END:VEVENT
BEGIN:VEVENT
DTSTART;TZID=Europe/Berlin:20251006T150000
DTEND;TZID=Europe/Berlin:20251006T160000
DTSTAMP:20260420T224203
CREATED:20250930T092515Z
LAST-MODIFIED:20250930T092515Z
UID:1962-1759762800-1759766400@benn-lls.de
SUMMARY:Musik für Kinder
DESCRIPTION:Wir machen Musik\, singen und tanzen. Für Kinder zwischen 6 und 12 Jahren. \nKeine Vorkenntnisse nötig! Das Angebot ist kostenlos.
URL:https://benn-lls.de/event/musik-fuer-kinder-10/
LOCATION:BENN Büro\, Louis-Lewin-Straße 101\, Berlin\, 12627\, Germany
ATTACH;FMTTYPE=image/png:https://benn-lls.de/wordpress/wp-content/uploads/2025/04/Musikkurs.png
ORGANIZER;CN="MitMachMusik":MAILTO:svenja.may@stephanus.org
END:VEVENT
BEGIN:VEVENT
DTSTART;TZID=Europe/Berlin:20251007T150000
DTEND;TZID=Europe/Berlin:20251007T160000
DTSTAMP:20260420T224203
CREATED:20250930T093257Z
LAST-MODIFIED:20250930T093257Z
UID:1974-1759849200-1759852800@benn-lls.de
SUMMARY:Tanzkurs für Kinder
DESCRIPTION:HipHop\, TikTok\, und Urban Dance! Wir tanzen zusammen. Für Anfänger bis Fortgeschrittene. \nDer Tanzkurs ist kostenlos\, kommt einfach vorbei. Alle Kinder zwischen 6 und 11 sind willkommen. \n  \n 
URL:https://benn-lls.de/event/tanzkurs-fuer-kinder-21/
LOCATION:BENN Büro\, Louis-Lewin-Straße 101\, Berlin\, 12627\, Germany
ATTACH;FMTTYPE=image/png:https://benn-lls.de/wordpress/wp-content/uploads/2025/04/Tanzkurs.png
END:VEVENT
BEGIN:VEVENT
DTSTART;TZID=Europe/Berlin:20251007T160000
DTEND;TZID=Europe/Berlin:20251007T170000
DTSTAMP:20260420T224203
CREATED:20250930T093453Z
LAST-MODIFIED:20250930T093453Z
UID:1982-1759852800-1759856400@benn-lls.de
SUMMARY:Tanzkurs für Jugendliche
DESCRIPTION:HipHop\, TikTok\, und Urban Dance! Wir tanzen zusammen. Für Anfänger bis Fortgeschrittene. \nDer Tanzkurs ist kostenlos\, kommt einfach vorbei. Alle Jugendlichen zwischen 12 und 17 sind willkommen. \n  \n 
URL:https://benn-lls.de/event/tanzkurs-fuer-jugendliche-21/
LOCATION:BENN Büro\, Louis-Lewin-Straße 101\, Berlin\, 12627\, Germany
ATTACH;FMTTYPE=image/png:https://benn-lls.de/wordpress/wp-content/uploads/2025/04/Tanzkurs.png
END:VEVENT
BEGIN:VEVENT
DTSTART;TZID=Europe/Berlin:20251008T150000
DTEND;TZID=Europe/Berlin:20251008T170000
DTSTAMP:20260420T224203
CREATED:20250930T093724Z
LAST-MODIFIED:20250930T093724Z
UID:1992-1759935600-1759942800@benn-lls.de
SUMMARY:Frauen-Treff mit Kinderbetreuung
DESCRIPTION:Kaffee\, Kekse\, Spiele  – komm vorbei! Alle Frauen* sind willkommen. Wir tauschen uns aus\, verbessern unser Deutsch und unterstützen uns gegenseitig. \nMit Kinderbetreuung.
URL:https://benn-lls.de/event/frauen-treff-mit-kinderbetreuung-20/
LOCATION:BENN Büro\, Louis-Lewin-Straße 101\, Berlin\, 12627\, Germany
ATTACH;FMTTYPE=image/png:https://benn-lls.de/wordpress/wp-content/uploads/2025/04/Frauentreff.png
END:VEVENT
BEGIN:VEVENT
DTSTART;TZID=Europe/Berlin:20251009T140000
DTEND;TZID=Europe/Berlin:20251009T170000
DTSTAMP:20260420T224203
CREATED:20250930T094404Z
LAST-MODIFIED:20250930T094404Z
UID:2006-1760018400-1760029200@benn-lls.de
SUMMARY:Nachbarschaftscafé
DESCRIPTION:Kaffee\, Spiele und Nachbarn kennenlernen. Unser offenes Café findet jeden Donnerstag statt\, wir freuen uns auf dich!
URL:https://benn-lls.de/event/nachbarschaftscafe-18/
LOCATION:BENN Büro\, Louis-Lewin-Straße 101\, Berlin\, 12627\, Germany
ATTACH;FMTTYPE=image/png:https://benn-lls.de/wordpress/wp-content/uploads/2025/04/Nachbarschaftscafe.png
END:VEVENT
BEGIN:VEVENT
DTSTART;TZID=Europe/Berlin:20251013T100000
DTEND;TZID=Europe/Berlin:20251013T120000
DTSTAMP:20260420T224203
CREATED:20250930T092316Z
LAST-MODIFIED:20250930T092316Z
UID:1956-1760349600-1760356800@benn-lls.de
SUMMARY:Nordic Walking für 50+
DESCRIPTION:Treffpunkt ist am Stadtteilzentrum Hellersdorf-Ost\, Albert-Kuntz-Straße 42.
URL:https://benn-lls.de/event/nordic-walking-fuer-50-12/
LOCATION:Stadtteilzentrum Hellersdorf-Ost\, Albert-Kuntz-Straße 42\, 12627 Berlin
ATTACH;FMTTYPE=image/png:https://benn-lls.de/wordpress/wp-content/uploads/2025/06/Nordic-Walking.png
END:VEVENT
BEGIN:VEVENT
DTSTART;TZID=Europe/Berlin:20251013T150000
DTEND;TZID=Europe/Berlin:20251013T160000
DTSTAMP:20260420T224203
CREATED:20250930T092823Z
LAST-MODIFIED:20250930T092823Z
UID:1964-1760367600-1760371200@benn-lls.de
SUMMARY:Musik für Kinder
DESCRIPTION:Wir machen Musik\, singen und tanzen. Für Kinder zwischen 6 und 12 Jahren. \nKeine Vorkenntnisse nötig! Das Angebot ist kostenlos.
URL:https://benn-lls.de/event/musik-fuer-kinder-11/
LOCATION:BENN Büro\, Louis-Lewin-Straße 101\, Berlin\, 12627\, Germany
ATTACH;FMTTYPE=image/png:https://benn-lls.de/wordpress/wp-content/uploads/2025/04/Musikkurs.png
ORGANIZER;CN="MitMachMusik":MAILTO:svenja.may@stephanus.org
END:VEVENT
BEGIN:VEVENT
DTSTART;TZID=Europe/Berlin:20251013T170000
DTEND;TZID=Europe/Berlin:20251013T200000
DTSTAMP:20260420T224203
CREATED:20250930T093104Z
LAST-MODIFIED:20250930T093104Z
UID:1970-1760374800-1760385600@benn-lls.de
SUMMARY:Spiele-Abend
DESCRIPTION:Klassisches und chinesisches Schach\, Kartenspiele und worauf ihr sonst noch Lust habt! \nEs gibt Snacks und Getränke. Das Angebot ist kostenlos.
URL:https://benn-lls.de/event/spiele-abend-13/
LOCATION:BENN Büro\, Louis-Lewin-Straße 101\, Berlin\, 12627\, Germany
ATTACH;FMTTYPE=image/png:https://benn-lls.de/wordpress/wp-content/uploads/2025/06/Schach-Abend-ohne-Termin.png
END:VEVENT
BEGIN:VEVENT
DTSTART;TZID=Europe/Berlin:20251014T150000
DTEND;TZID=Europe/Berlin:20251014T154500
DTSTAMP:20260420T224203
CREATED:20250930T093328Z
LAST-MODIFIED:20251014T112549Z
UID:1976-1760454000-1760456700@benn-lls.de
SUMMARY:Tanzkurs für Kinder
DESCRIPTION:HipHop\, TikTok\, und Urban Dance! Wir tanzen zusammen. Für Anfänger bis Fortgeschrittene. \nDer Tanzkurs ist kostenlos\, kommt einfach vorbei. Alle Kinder zwischen 6 und 10 sind willkommen. \n  \n 
URL:https://benn-lls.de/event/tanzkurs-fuer-kinder-22/
LOCATION:BENN Büro\, Louis-Lewin-Straße 101\, Berlin\, 12627\, Germany
ATTACH;FMTTYPE=application/pdf:https://benn-lls.de/wordpress/wp-content/uploads/2025/09/Tanzkurs.pdf
END:VEVENT
BEGIN:VEVENT
DTSTART;TZID=Europe/Berlin:20251014T154500
DTEND;TZID=Europe/Berlin:20251014T163000
DTSTAMP:20260420T224203
CREATED:20250930T093537Z
LAST-MODIFIED:20251014T113329Z
UID:1984-1760456700-1760459400@benn-lls.de
SUMMARY:Tanzkurs für Jugendliche
DESCRIPTION:HipHop\, TikTok\, und Urban Dance! Wir tanzen zusammen. Für Anfänger bis Fortgeschrittene. \nDer Tanzkurs ist kostenlos\, kommt einfach vorbei. Alle Jugendlichen zwischen 11 und 17 sind willkommen. \n  \n 
URL:https://benn-lls.de/event/tanzkurs-fuer-jugendliche-22/
LOCATION:BENN Büro\, Louis-Lewin-Straße 101\, Berlin\, 12627\, Germany
ATTACH;FMTTYPE=image/png:https://benn-lls.de/wordpress/wp-content/uploads/2025/09/Tanzkurs-neu.png
END:VEVENT
BEGIN:VEVENT
DTSTART;TZID=Europe/Berlin:20251015T150000
DTEND;TZID=Europe/Berlin:20251015T170000
DTSTAMP:20260420T224203
CREATED:20250930T093746Z
LAST-MODIFIED:20250930T093746Z
UID:1994-1760540400-1760547600@benn-lls.de
SUMMARY:Frauen-Treff mit Kinderbetreuung
DESCRIPTION:Kaffee\, Kekse\, Spiele  – komm vorbei! Alle Frauen* sind willkommen. Wir tauschen uns aus\, verbessern unser Deutsch und unterstützen uns gegenseitig. \nMit Kinderbetreuung.
URL:https://benn-lls.de/event/frauen-treff-mit-kinderbetreuung-21/
LOCATION:BENN Büro\, Louis-Lewin-Straße 101\, Berlin\, 12627\, Germany
ATTACH;FMTTYPE=image/png:https://benn-lls.de/wordpress/wp-content/uploads/2025/04/Frauentreff.png
END:VEVENT
BEGIN:VEVENT
DTSTART;TZID=Europe/Berlin:20251016T140000
DTEND;TZID=Europe/Berlin:20251016T170000
DTSTAMP:20260420T224203
CREATED:20250930T094423Z
LAST-MODIFIED:20250930T094423Z
UID:2008-1760623200-1760634000@benn-lls.de
SUMMARY:Nachbarschaftscafé
DESCRIPTION:Kaffee\, Spiele und Nachbarn kennenlernen. Unser offenes Café findet jeden Donnerstag statt\, wir freuen uns auf dich!
URL:https://benn-lls.de/event/nachbarschaftscafe-19/
LOCATION:BENN Büro\, Louis-Lewin-Straße 101\, Berlin\, 12627\, Germany
ATTACH;FMTTYPE=image/png:https://benn-lls.de/wordpress/wp-content/uploads/2025/04/Nachbarschaftscafe.png
END:VEVENT
BEGIN:VEVENT
DTSTART;TZID=Europe/Berlin:20251016T160000
DTEND;TZID=Europe/Berlin:20251016T190000
DTSTAMP:20260420T224203
CREATED:20250930T094531Z
LAST-MODIFIED:20250930T094531Z
UID:2012-1760630400-1760641200@benn-lls.de
SUMMARY:Nachbarschafts-Kochabend
DESCRIPTION:Die Nachbar*innen kommen und kochen gemeinsam interkulturelle Gerichte\, tauschen Rezepte und Erfahrungen aus. \nAlle Ideen sind willkommen. Das Angebot ist kostenfrei. Komm vorbei und mach mit!
URL:https://benn-lls.de/event/nachbarschafts-kochabend-6/
LOCATION:BENN Büro\, Louis-Lewin-Straße 101\, Berlin\, 12627\, Germany
ATTACH;FMTTYPE=image/png:https://benn-lls.de/wordpress/wp-content/uploads/2025/06/Kochabend-IG-Post.png
END:VEVENT
BEGIN:VEVENT
DTSTART;TZID=Europe/Berlin:20251020T100000
DTEND;TZID=Europe/Berlin:20251020T120000
DTSTAMP:20260420T224203
CREATED:20250930T092342Z
LAST-MODIFIED:20250930T092342Z
UID:1958-1760954400-1760961600@benn-lls.de
SUMMARY:Nordic Walking für 50+
DESCRIPTION:Treffpunkt ist am Stadtteilzentrum Hellersdorf-Ost\, Albert-Kuntz-Straße 42.
URL:https://benn-lls.de/event/nordic-walking-fuer-50-13/
LOCATION:Stadtteilzentrum Hellersdorf-Ost\, Albert-Kuntz-Straße 42\, 12627 Berlin
ATTACH;FMTTYPE=image/png:https://benn-lls.de/wordpress/wp-content/uploads/2025/06/Nordic-Walking.png
END:VEVENT
BEGIN:VEVENT
DTSTART;TZID=Europe/Berlin:20251020T150000
DTEND;TZID=Europe/Berlin:20251020T160000
DTSTAMP:20260420T224203
CREATED:20250930T092849Z
LAST-MODIFIED:20250930T092849Z
UID:1966-1760972400-1760976000@benn-lls.de
SUMMARY:Musik für Kinder
DESCRIPTION:Wir machen Musik\, singen und tanzen. Für Kinder zwischen 6 und 12 Jahren. \nKeine Vorkenntnisse nötig! Das Angebot ist kostenlos.
URL:https://benn-lls.de/event/musik-fuer-kinder-12/
LOCATION:BENN Büro\, Louis-Lewin-Straße 101\, Berlin\, 12627\, Germany
ATTACH;FMTTYPE=image/png:https://benn-lls.de/wordpress/wp-content/uploads/2025/04/Musikkurs.png
ORGANIZER;CN="MitMachMusik":MAILTO:svenja.may@stephanus.org
END:VEVENT
BEGIN:VEVENT
DTSTART;TZID=Europe/Berlin:20251021T150000
DTEND;TZID=Europe/Berlin:20251021T154500
DTSTAMP:20260420T224203
CREATED:20250930T093347Z
LAST-MODIFIED:20251014T113353Z
UID:1978-1761058800-1761061500@benn-lls.de
SUMMARY:Tanzkurs für Kinder
DESCRIPTION:HipHop\, TikTok\, und Urban Dance! Wir tanzen zusammen. Für Anfänger bis Fortgeschrittene. \nDer Tanzkurs ist kostenlos\, kommt einfach vorbei. Alle Kinder zwischen 6 und 10 sind willkommen. \n  \n 
URL:https://benn-lls.de/event/tanzkurs-fuer-kinder-23/
LOCATION:BENN Büro\, Louis-Lewin-Straße 101\, Berlin\, 12627\, Germany
ATTACH;FMTTYPE=image/png:https://benn-lls.de/wordpress/wp-content/uploads/2025/09/Tanzkurs-neu.png
END:VEVENT
BEGIN:VEVENT
DTSTART;TZID=Europe/Berlin:20251021T154500
DTEND;TZID=Europe/Berlin:20251021T163000
DTSTAMP:20260420T224203
CREATED:20250930T093557Z
LAST-MODIFIED:20251014T113412Z
UID:1986-1761061500-1761064200@benn-lls.de
SUMMARY:Tanzkurs für Jugendliche
DESCRIPTION:HipHop\, TikTok\, und Urban Dance! Wir tanzen zusammen. Für Anfänger bis Fortgeschrittene. \nDer Tanzkurs ist kostenlos\, kommt einfach vorbei. Alle Jugendlichen zwischen 11 und 17 sind willkommen. \n  \n 
URL:https://benn-lls.de/event/tanzkurs-fuer-jugendliche-23/
LOCATION:BENN Büro\, Louis-Lewin-Straße 101\, Berlin\, 12627\, Germany
ATTACH;FMTTYPE=image/png:https://benn-lls.de/wordpress/wp-content/uploads/2025/09/Tanzkurs-neu.png
END:VEVENT
BEGIN:VEVENT
DTSTART;TZID=Europe/Berlin:20251022T150000
DTEND;TZID=Europe/Berlin:20251022T170000
DTSTAMP:20260420T224203
CREATED:20250930T093804Z
LAST-MODIFIED:20250930T093804Z
UID:1996-1761145200-1761152400@benn-lls.de
SUMMARY:Frauen-Treff mit Kinderbetreuung
DESCRIPTION:Kaffee\, Kekse\, Spiele  – komm vorbei! Alle Frauen* sind willkommen. Wir tauschen uns aus\, verbessern unser Deutsch und unterstützen uns gegenseitig. \nMit Kinderbetreuung.
URL:https://benn-lls.de/event/frauen-treff-mit-kinderbetreuung-22/
LOCATION:BENN Büro\, Louis-Lewin-Straße 101\, Berlin\, 12627\, Germany
ATTACH;FMTTYPE=image/png:https://benn-lls.de/wordpress/wp-content/uploads/2025/04/Frauentreff.png
END:VEVENT
BEGIN:VEVENT
DTSTART;TZID=Europe/Berlin:20251023T140000
DTEND;TZID=Europe/Berlin:20251023T170000
DTSTAMP:20260420T224203
CREATED:20250930T094449Z
LAST-MODIFIED:20250930T094449Z
UID:2010-1761228000-1761238800@benn-lls.de
SUMMARY:Nachbarschaftscafé
DESCRIPTION:Kaffee\, Spiele und Nachbarn kennenlernen. Unser offenes Café findet jeden Donnerstag statt\, wir freuen uns auf dich!
URL:https://benn-lls.de/event/nachbarschaftscafe-20/
LOCATION:BENN Büro\, Louis-Lewin-Straße 101\, Berlin\, 12627\, Germany
ATTACH;FMTTYPE=image/png:https://benn-lls.de/wordpress/wp-content/uploads/2025/04/Nachbarschaftscafe.png
END:VEVENT
BEGIN:VEVENT
DTSTART;TZID=Europe/Berlin:20251027T100000
DTEND;TZID=Europe/Berlin:20251027T120000
DTSTAMP:20260420T224203
CREATED:20250930T092425Z
LAST-MODIFIED:20250930T092425Z
UID:1960-1761559200-1761566400@benn-lls.de
SUMMARY:Nordic Walking für 50+
DESCRIPTION:Treffpunkt ist am Stadtteilzentrum Hellersdorf-Ost\, Albert-Kuntz-Straße 42.
URL:https://benn-lls.de/event/nordic-walking-fuer-50-14/
LOCATION:Stadtteilzentrum Hellersdorf-Ost\, Albert-Kuntz-Straße 42\, 12627 Berlin
ATTACH;FMTTYPE=image/png:https://benn-lls.de/wordpress/wp-content/uploads/2025/06/Nordic-Walking.png
END:VEVENT
BEGIN:VEVENT
DTSTART;TZID=Europe/Berlin:20251027T150000
DTEND;TZID=Europe/Berlin:20251027T160000
DTSTAMP:20260420T224203
CREATED:20250930T092937Z
LAST-MODIFIED:20250930T092937Z
UID:1968-1761577200-1761580800@benn-lls.de
SUMMARY:Musik für Kinder
DESCRIPTION:Wir machen Musik\, singen und tanzen. Für Kinder zwischen 6 und 12 Jahren. \nKeine Vorkenntnisse nötig! Das Angebot ist kostenlos.
URL:https://benn-lls.de/event/musik-fuer-kinder-13/
LOCATION:BENN Büro\, Louis-Lewin-Straße 101\, Berlin\, 12627\, Germany
ATTACH;FMTTYPE=image/png:https://benn-lls.de/wordpress/wp-content/uploads/2025/04/Musikkurs.png
ORGANIZER;CN="MitMachMusik":MAILTO:svenja.may@stephanus.org
END:VEVENT
BEGIN:VEVENT
DTSTART;TZID=Europe/Berlin:20251027T170000
DTEND;TZID=Europe/Berlin:20251027T200000
DTSTAMP:20260420T224203
CREATED:20250930T093144Z
LAST-MODIFIED:20250930T093144Z
UID:1972-1761584400-1761595200@benn-lls.de
SUMMARY:Spiele-Abend
DESCRIPTION:Klassisches und chinesisches Schach\, Kartenspiele und worauf ihr sonst noch Lust habt! \nEs gibt Snacks und Getränke. Das Angebot ist kostenlos.
URL:https://benn-lls.de/event/spiele-abend-14/
LOCATION:BENN Büro\, Louis-Lewin-Straße 101\, Berlin\, 12627\, Germany
ATTACH;FMTTYPE=image/png:https://benn-lls.de/wordpress/wp-content/uploads/2025/06/Schach-Abend-ohne-Termin.png
END:VEVENT
BEGIN:VEVENT
DTSTART;TZID=Europe/Berlin:20251028T150000
DTEND;TZID=Europe/Berlin:20251028T154500
DTSTAMP:20260420T224203
CREATED:20250930T093414Z
LAST-MODIFIED:20251014T113434Z
UID:1980-1761663600-1761666300@benn-lls.de
SUMMARY:Tanzkurs für Kinder
DESCRIPTION:HipHop\, TikTok\, und Urban Dance! Wir tanzen zusammen. Für Anfänger bis Fortgeschrittene. \nDer Tanzkurs ist kostenlos\, kommt einfach vorbei. Alle Kinder zwischen 6 und 10 sind willkommen. \n  \n 
URL:https://benn-lls.de/event/tanzkurs-fuer-kinder-24/
LOCATION:BENN Büro\, Louis-Lewin-Straße 101\, Berlin\, 12627\, Germany
ATTACH;FMTTYPE=image/png:https://benn-lls.de/wordpress/wp-content/uploads/2025/09/Tanzkurs-neu.png
END:VEVENT
BEGIN:VEVENT
DTSTART;TZID=Europe/Berlin:20251028T154500
DTEND;TZID=Europe/Berlin:20251028T163000
DTSTAMP:20260420T224203
CREATED:20250930T093613Z
LAST-MODIFIED:20251014T113508Z
UID:1988-1761666300-1761669000@benn-lls.de
SUMMARY:Tanzkurs für Jugendliche
DESCRIPTION:HipHop\, TikTok\, und Urban Dance! Wir tanzen zusammen. Für Anfänger bis Fortgeschrittene. \nDer Tanzkurs ist kostenlos\, kommt einfach vorbei. Alle Jugendlichen zwischen 11 und 17 sind willkommen. \n  \n 
URL:https://benn-lls.de/event/tanzkurs-fuer-jugendliche-24/
LOCATION:BENN Büro\, Louis-Lewin-Straße 101\, Berlin\, 12627\, Germany
ATTACH;FMTTYPE=image/png:https://benn-lls.de/wordpress/wp-content/uploads/2025/09/Tanzkurs-neu.png
END:VEVENT
BEGIN:VEVENT
DTSTART;TZID=Europe/Berlin:20251029T130000
DTEND;TZID=Europe/Berlin:20251029T143000
DTSTAMP:20260420T224203
CREATED:20250930T094150Z
LAST-MODIFIED:20251006T110103Z
UID:2000-1761742800-1761748200@benn-lls.de
SUMMARY:Selbstbehauptungsworkshop für Mädchen (8-11 Jahren)
DESCRIPTION:Wendo – Selbstbehauptung für Mädchen \n\n\n\nWie kann ich meinem Bauchgefühl vertrauen?\nWie kann ich mich im Alltag sicher und mutig fühlen?\nWie kann ich in blöden Situationen „Nein“ sagen?\n\n\nFür Mädchen von 8 – 11 Jahren\nWendo Berlin-Brandenburg (wendo-bb.de) führt den Workshop durch\nAnmeldung erwünscht
URL:https://benn-lls.de/event/selbstbehauptungsworkshop-fuer-maedchen-8-11-jahren/
LOCATION:BENN Büro\, Louis-Lewin-Straße 101\, Berlin\, 12627\, Germany
ATTACH;FMTTYPE=image/png:https://benn-lls.de/wordpress/wp-content/uploads/2025/09/Wendo.png
END:VEVENT
BEGIN:VEVENT
DTSTART;TZID=Europe/Berlin:20251029T150000
DTEND;TZID=Europe/Berlin:20251029T170000
DTSTAMP:20260420T224203
CREATED:20250930T093827Z
LAST-MODIFIED:20250930T093827Z
UID:1998-1761750000-1761757200@benn-lls.de
SUMMARY:Frauen-Treff mit Kinderbetreuung
DESCRIPTION:Kaffee\, Kekse\, Spiele  – komm vorbei! Alle Frauen* sind willkommen. Wir tauschen uns aus\, verbessern unser Deutsch und unterstützen uns gegenseitig. \nMit Kinderbetreuung.
URL:https://benn-lls.de/event/frauen-treff-mit-kinderbetreuung-23/
LOCATION:BENN Büro\, Louis-Lewin-Straße 101\, Berlin\, 12627\, Germany
ATTACH;FMTTYPE=image/png:https://benn-lls.de/wordpress/wp-content/uploads/2025/04/Frauentreff.png
END:VEVENT
BEGIN:VEVENT
DTSTART;TZID=Europe/Berlin:20251030T140000
DTEND;TZID=Europe/Berlin:20251030T170000
DTSTAMP:20260420T224203
CREATED:20250930T094256Z
LAST-MODIFIED:20250930T094256Z
UID:2002-1761832800-1761843600@benn-lls.de
SUMMARY:Nachbarschaftscafé - mit Job-Beratung für Migrant:innen
DESCRIPTION:Kaffee\, Spiele und Nachbarn kennenlernen. Unser offenes Café findet jeden Donnerstag statt\, wir freuen uns auf dich!
URL:https://benn-lls.de/event/nachbarschaftscafe-mit-job-beratung-fuer-migrantinnen-3/
LOCATION:BENN Büro\, Louis-Lewin-Straße 101\, Berlin\, 12627\, Germany
ATTACH;FMTTYPE=image/png:https://benn-lls.de/wordpress/wp-content/uploads/2025/04/Nachbarschaftscafe.png
END:VEVENT
END:VCALENDAR