BEGIN:VCALENDAR
VERSION:2.0
PRODID:-//BENN Louis-Lewin-Straße - ECPv6.15.20//NONSGML v1.0//EN
CALSCALE:GREGORIAN
METHOD:PUBLISH
X-ORIGINAL-URL:https://benn-lls.de
X-WR-CALDESC:Veranstaltungen für BENN Louis-Lewin-Straße
REFRESH-INTERVAL;VALUE=DURATION:PT1H
X-Robots-Tag:noindex
X-PUBLISHED-TTL:PT1H
BEGIN:VTIMEZONE
TZID:Europe/Berlin
BEGIN:DAYLIGHT
TZOFFSETFROM:+0100
TZOFFSETTO:+0200
TZNAME:CEST
DTSTART:20240331T010000
END:DAYLIGHT
BEGIN:STANDARD
TZOFFSETFROM:+0200
TZOFFSETTO:+0100
TZNAME:CET
DTSTART:20241027T010000
END:STANDARD
BEGIN:DAYLIGHT
TZOFFSETFROM:+0100
TZOFFSETTO:+0200
TZNAME:CEST
DTSTART:20250330T010000
END:DAYLIGHT
BEGIN:STANDARD
TZOFFSETFROM:+0200
TZOFFSETTO:+0100
TZNAME:CET
DTSTART:20251026T010000
END:STANDARD
BEGIN:DAYLIGHT
TZOFFSETFROM:+0100
TZOFFSETTO:+0200
TZNAME:CEST
DTSTART:20260329T010000
END:DAYLIGHT
BEGIN:STANDARD
TZOFFSETFROM:+0200
TZOFFSETTO:+0100
TZNAME:CET
DTSTART:20261025T010000
END:STANDARD
END:VTIMEZONE
BEGIN:VEVENT
DTSTART;TZID=Europe/Berlin:20250901T170000
DTEND;TZID=Europe/Berlin:20250901T200000
DTSTAMP:20260420T192920
CREATED:20250901T101856Z
LAST-MODIFIED:20250901T101856Z
UID:1875-1756746000-1756756800@benn-lls.de
SUMMARY:Spiele-Abend
DESCRIPTION:Klassisches und chinesisches Schach\, Kartenspiele und worauf ihr sonst noch Lust habt! \nEs gibt Snacks und Getränke. Das Angebot ist kostenlos.
URL:https://benn-lls.de/event/spiele-abend-10/
LOCATION:BENN Büro\, Louis-Lewin-Straße 101\, Berlin\, 12627\, Germany
ATTACH;FMTTYPE=image/png:https://benn-lls.de/wordpress/wp-content/uploads/2025/06/Schach-Abend-ohne-Termin.png
END:VEVENT
BEGIN:VEVENT
DTSTART;TZID=Europe/Berlin:20250902T150000
DTEND;TZID=Europe/Berlin:20250902T160000
DTSTAMP:20260420T192920
CREATED:20250901T101942Z
LAST-MODIFIED:20250901T101942Z
UID:1877-1756825200-1756828800@benn-lls.de
SUMMARY:Tanzkurs für Kinder
DESCRIPTION:HipHop\, TikTok\, und Urban Dance! Wir tanzen zusammen. Für Anfänger bis Fortgeschrittene. \nDer Tanzkurs ist kostenlos\, kommt einfach vorbei. Alle Kinder zwischen 6 und 11 sind willkommen. \n  \n 
URL:https://benn-lls.de/event/tanzkurs-fuer-kinder-16/
LOCATION:BENN Büro\, Louis-Lewin-Straße 101\, Berlin\, 12627\, Germany
ATTACH;FMTTYPE=image/png:https://benn-lls.de/wordpress/wp-content/uploads/2025/04/Tanzkurs.png
END:VEVENT
BEGIN:VEVENT
DTSTART;TZID=Europe/Berlin:20250902T160000
DTEND;TZID=Europe/Berlin:20250902T170000
DTSTAMP:20260420T192920
CREATED:20250901T102003Z
LAST-MODIFIED:20250901T102003Z
UID:1879-1756828800-1756832400@benn-lls.de
SUMMARY:Tanzkurs für Jugendliche
DESCRIPTION:HipHop\, TikTok\, und Urban Dance! Wir tanzen zusammen. Für Anfänger bis Fortgeschrittene. \nDer Tanzkurs ist kostenlos\, kommt einfach vorbei. Alle Jugendlichen zwischen 12 und 17 sind willkommen. \n  \n 
URL:https://benn-lls.de/event/tanzkurs-fuer-jugendliche-16/
LOCATION:BENN Büro\, Louis-Lewin-Straße 101\, Berlin\, 12627\, Germany
ATTACH;FMTTYPE=image/png:https://benn-lls.de/wordpress/wp-content/uploads/2025/04/Tanzkurs.png
END:VEVENT
BEGIN:VEVENT
DTSTART;TZID=Europe/Berlin:20250902T160000
DTEND;TZID=Europe/Berlin:20250902T170000
DTSTAMP:20260420T192920
CREATED:20250901T102122Z
LAST-MODIFIED:20250901T152045Z
UID:1881-1756828800-1756832400@benn-lls.de
SUMMARY:Gärtnern für Kinder
DESCRIPTION:Wir entdecken Natur! Zusammen gärtnern wir\, lernen wie man ein Beet pflegt oder was um uns herum wächst. Spannend für Kinder zwischen 6 und 12 Jahren. \nDas Angebot ist kostenlos. Treffpunkt ist der Panoramagarten auf dem Fußgängerweg zwischen der U Louis-Lewin-Straße und der Albert-Kuntz-Straße.
URL:https://benn-lls.de/event/gaertnern-fuer-kinder-6/
LOCATION:Panoramagarten hinter der GU\, Albert-Kuntz-Straße 63\, 12627 Berlin
ATTACH;FMTTYPE=image/png:https://benn-lls.de/wordpress/wp-content/uploads/2025/09/2.png
END:VEVENT
BEGIN:VEVENT
DTSTART;TZID=Europe/Berlin:20250903T150000
DTEND;TZID=Europe/Berlin:20250903T170000
DTSTAMP:20260420T192920
CREATED:20250901T153750Z
LAST-MODIFIED:20250901T153750Z
UID:1919-1756911600-1756918800@benn-lls.de
SUMMARY:Frauen-Treff mit Kinderbetreuung
DESCRIPTION:Kaffee\, Kekse\, Spiele  – komm vorbei! Alle Frauen* sind willkommen. Wir tauschen uns aus\, verbessern unser Deutsch und unterstützen uns gegenseitig. \nMit Kinderbetreuung.
URL:https://benn-lls.de/event/frauen-treff-mit-kinderbetreuung-15/
LOCATION:BENN Büro\, Louis-Lewin-Straße 101\, Berlin\, 12627\, Germany
ATTACH;FMTTYPE=image/png:https://benn-lls.de/wordpress/wp-content/uploads/2025/04/Frauentreff.png
END:VEVENT
BEGIN:VEVENT
DTSTART;TZID=Europe/Berlin:20250904T140000
DTEND;TZID=Europe/Berlin:20250904T170000
DTSTAMP:20260420T192920
CREATED:20250901T154001Z
LAST-MODIFIED:20250901T154139Z
UID:1927-1756994400-1757005200@benn-lls.de
SUMMARY:Nachbarschaftscafé
DESCRIPTION:Kaffee\, Spiele und Nachbarn kennenlernen. Unser offenes Café findet jeden Donnerstag statt\, wir freuen uns auf dich!
URL:https://benn-lls.de/event/nachbarschaftscafe-15/
LOCATION:BENN Büro\, Louis-Lewin-Straße 101\, Berlin\, 12627\, Germany
ATTACH;FMTTYPE=image/png:https://benn-lls.de/wordpress/wp-content/uploads/2025/04/Nachbarschaftscafe.png
END:VEVENT
BEGIN:VEVENT
DTSTART;TZID=Europe/Berlin:20250909T150000
DTEND;TZID=Europe/Berlin:20250909T160000
DTSTAMP:20260420T192920
CREATED:20250901T145300Z
LAST-MODIFIED:20250901T145300Z
UID:1890-1757430000-1757433600@benn-lls.de
SUMMARY:Tanzkurs für Kinder
DESCRIPTION:HipHop\, TikTok\, und Urban Dance! Wir tanzen zusammen. Für Anfänger bis Fortgeschrittene. \nDer Tanzkurs ist kostenlos\, kommt einfach vorbei. Alle Kinder zwischen 6 und 11 sind willkommen. \n  \n 
URL:https://benn-lls.de/event/tanzkurs-fuer-kinder-17/
LOCATION:BENN Büro\, Louis-Lewin-Straße 101\, Berlin\, 12627\, Germany
ATTACH;FMTTYPE=image/png:https://benn-lls.de/wordpress/wp-content/uploads/2025/04/Tanzkurs.png
END:VEVENT
BEGIN:VEVENT
DTSTART;TZID=Europe/Berlin:20250909T160000
DTEND;TZID=Europe/Berlin:20250909T170000
DTSTAMP:20260420T192920
CREATED:20250901T145321Z
LAST-MODIFIED:20250901T145321Z
UID:1892-1757433600-1757437200@benn-lls.de
SUMMARY:Tanzkurs für Jugendliche
DESCRIPTION:HipHop\, TikTok\, und Urban Dance! Wir tanzen zusammen. Für Anfänger bis Fortgeschrittene. \nDer Tanzkurs ist kostenlos\, kommt einfach vorbei. Alle Jugendlichen zwischen 12 und 17 sind willkommen. \n  \n 
URL:https://benn-lls.de/event/tanzkurs-fuer-jugendliche-17/
LOCATION:BENN Büro\, Louis-Lewin-Straße 101\, Berlin\, 12627\, Germany
ATTACH;FMTTYPE=image/png:https://benn-lls.de/wordpress/wp-content/uploads/2025/04/Tanzkurs.png
END:VEVENT
BEGIN:VEVENT
DTSTART;TZID=Europe/Berlin:20250910T150000
DTEND;TZID=Europe/Berlin:20250910T170000
DTSTAMP:20260420T192920
CREATED:20250901T153819Z
LAST-MODIFIED:20250901T153819Z
UID:1921-1757516400-1757523600@benn-lls.de
SUMMARY:Frauen-Treff mit Kinderbetreuung
DESCRIPTION:Kaffee\, Kekse\, Spiele  – komm vorbei! Alle Frauen* sind willkommen. Wir tauschen uns aus\, verbessern unser Deutsch und unterstützen uns gegenseitig. \nMit Kinderbetreuung.
URL:https://benn-lls.de/event/frauen-treff-mit-kinderbetreuung-16/
LOCATION:BENN Büro\, Louis-Lewin-Straße 101\, Berlin\, 12627\, Germany
ATTACH;FMTTYPE=image/png:https://benn-lls.de/wordpress/wp-content/uploads/2025/04/Frauentreff.png
END:VEVENT
BEGIN:VEVENT
DTSTART;TZID=Europe/Berlin:20250911T150000
DTEND;TZID=Europe/Berlin:20250911T180000
DTSTAMP:20260420T192920
CREATED:20250903T165604Z
LAST-MODIFIED:20250908T140809Z
UID:1937-1757602800-1757613600@benn-lls.de
SUMMARY:Sommerfest Lange Tafel im Panoramagarten
DESCRIPTION:Lasst uns gemeinsam den letzten Moment des Sommers feiern. Es gibt ein Barbecue und ein hausgemachtes Buffet\, Kinderschminken\, Live-Musik\, eine Tanzvorführung der Kindertanzgruppe sowie einen Trommelworkshop mit unseren talentierten Künstlern. Kommt vorbei und macht mit!
URL:https://benn-lls.de/event/sommerfest-lange-tafel-im-panoramagarten/
LOCATION:Panoramagarten hinter der GU\, Albert-Kuntz-Straße 63\, 12627 Berlin
ATTACH;FMTTYPE=image/png:https://benn-lls.de/wordpress/wp-content/uploads/2025/09/Einladungen.png
END:VEVENT
BEGIN:VEVENT
DTSTART;TZID=Europe/Berlin:20250915T150000
DTEND;TZID=Europe/Berlin:20250915T160000
DTSTAMP:20260420T192920
CREATED:20250901T144114Z
LAST-MODIFIED:20250901T144114Z
UID:1883-1757948400-1757952000@benn-lls.de
SUMMARY:Musik für Kinder
DESCRIPTION:Wir machen Musik\, singen und tanzen. Für Kinder zwischen 6 und 12 Jahren. \nKeine Vorkenntnisse nötig! Das Angebot ist kostenlos.
URL:https://benn-lls.de/event/musik-fuer-kinder-6/
LOCATION:BENN Büro\, Louis-Lewin-Straße 101\, Berlin\, 12627\, Germany
ATTACH;FMTTYPE=image/png:https://benn-lls.de/wordpress/wp-content/uploads/2025/04/Musikkurs.png
ORGANIZER;CN="MitMachMusik":MAILTO:svenja.may@stephanus.org
END:VEVENT
BEGIN:VEVENT
DTSTART;TZID=Europe/Berlin:20250915T170000
DTEND;TZID=Europe/Berlin:20250915T200000
DTSTAMP:20260420T192920
CREATED:20250901T145209Z
LAST-MODIFIED:20250901T145209Z
UID:1886-1757955600-1757966400@benn-lls.de
SUMMARY:Spiele-Abend
DESCRIPTION:Klassisches und chinesisches Schach\, Kartenspiele und worauf ihr sonst noch Lust habt! \nEs gibt Snacks und Getränke. Das Angebot ist kostenlos.
URL:https://benn-lls.de/event/spiele-abend-11/
LOCATION:BENN Büro\, Louis-Lewin-Straße 101\, Berlin\, 12627\, Germany
ATTACH;FMTTYPE=image/png:https://benn-lls.de/wordpress/wp-content/uploads/2025/06/Schach-Abend-ohne-Termin.png
END:VEVENT
BEGIN:VEVENT
DTSTART;TZID=Europe/Berlin:20250916T150000
DTEND;TZID=Europe/Berlin:20250916T160000
DTSTAMP:20260420T192920
CREATED:20250901T145424Z
LAST-MODIFIED:20250901T145424Z
UID:1898-1758034800-1758038400@benn-lls.de
SUMMARY:Tanzkurs für Kinder
DESCRIPTION:HipHop\, TikTok\, und Urban Dance! Wir tanzen zusammen. Für Anfänger bis Fortgeschrittene. \nDer Tanzkurs ist kostenlos\, kommt einfach vorbei. Alle Kinder zwischen 6 und 11 sind willkommen. \n  \n 
URL:https://benn-lls.de/event/tanzkurs-fuer-kinder-18/
LOCATION:BENN Büro\, Louis-Lewin-Straße 101\, Berlin\, 12627\, Germany
ATTACH;FMTTYPE=image/png:https://benn-lls.de/wordpress/wp-content/uploads/2025/04/Tanzkurs.png
END:VEVENT
BEGIN:VEVENT
DTSTART;TZID=Europe/Berlin:20250916T150000
DTEND;TZID=Europe/Berlin:20250916T170000
DTSTAMP:20260420T192920
CREATED:20250901T152953Z
LAST-MODIFIED:20250901T153552Z
UID:1911-1758034800-1758042000@benn-lls.de
SUMMARY:Bauaktion im Panoramagarten
DESCRIPTION:Wir machen den Panoramagarten bei der U Louis-Lewin-Straße zu einem schönen Ort für Veranstaltungen und Grillen. Diesmal bauen wir ein Insektenhotel und ein Vogelbad. Kommt vorbei!! \nDas Angebot ist kostenlos. Treffpunkt ist der Panoramagarten auf dem Fußgängerweg zwischen der U Louis-Lewin-Straße und der Albert-Kuntz-Straße.
URL:https://benn-lls.de/event/bauaktion-im-panoramagarten/
LOCATION:Panoramagarten hinter der GU\, Albert-Kuntz-Straße 63\, 12627 Berlin
ATTACH;FMTTYPE=image/png:https://benn-lls.de/wordpress/wp-content/uploads/2025/09/4-1.png
END:VEVENT
BEGIN:VEVENT
DTSTART;TZID=Europe/Berlin:20250916T160000
DTEND;TZID=Europe/Berlin:20250916T170000
DTSTAMP:20260420T192920
CREATED:20250901T145444Z
LAST-MODIFIED:20250901T145444Z
UID:1900-1758038400-1758042000@benn-lls.de
SUMMARY:Tanzkurs für Jugendliche
DESCRIPTION:HipHop\, TikTok\, und Urban Dance! Wir tanzen zusammen. Für Anfänger bis Fortgeschrittene. \nDer Tanzkurs ist kostenlos\, kommt einfach vorbei. Alle Jugendlichen zwischen 12 und 17 sind willkommen. \n  \n 
URL:https://benn-lls.de/event/tanzkurs-fuer-jugendliche-18/
LOCATION:BENN Büro\, Louis-Lewin-Straße 101\, Berlin\, 12627\, Germany
ATTACH;FMTTYPE=image/png:https://benn-lls.de/wordpress/wp-content/uploads/2025/04/Tanzkurs.png
END:VEVENT
BEGIN:VEVENT
DTSTART;TZID=Europe/Berlin:20250916T170000
DTEND;TZID=Europe/Berlin:20250916T190000
DTSTAMP:20260420T192920
CREATED:20250903T170100Z
LAST-MODIFIED:20250908T130340Z
UID:1941-1758042000-1758049200@benn-lls.de
SUMMARY:Fotospaziergang in Hellersdorf mit Alina Rudya
DESCRIPTION:*Begleite die Fotografin Alina Rudya auf einem einzigartigen Fotospaziergang durch Hellersdorf \n*Lerne Tipps und Tricks für spannende Fotos– mit eigener Kamera oder Smartphone\, egal ob Anfänger oder Profi \n* Entdecke die besondere Architektur von Hellersdorf und verborgene Details aus neuer Perspektive \n  \n 
URL:https://benn-lls.de/event/fotospaziergang-in-hellersdorf-mit-alina-rudya/
LOCATION:BENN Büro\, Louis-Lewin-Straße 101\, Berlin\, 12627\, Germany
ATTACH;FMTTYPE=image/png:https://benn-lls.de/wordpress/wp-content/uploads/2025/09/Fotowalk-1.png
END:VEVENT
BEGIN:VEVENT
DTSTART;TZID=Europe/Berlin:20250917T150000
DTEND;TZID=Europe/Berlin:20250917T170000
DTSTAMP:20260420T192920
CREATED:20250901T153842Z
LAST-MODIFIED:20250901T153842Z
UID:1923-1758121200-1758128400@benn-lls.de
SUMMARY:Frauen-Treff mit Kinderbetreuung
DESCRIPTION:Kaffee\, Kekse\, Spiele  – komm vorbei! Alle Frauen* sind willkommen. Wir tauschen uns aus\, verbessern unser Deutsch und unterstützen uns gegenseitig. \nMit Kinderbetreuung.
URL:https://benn-lls.de/event/frauen-treff-mit-kinderbetreuung-17/
LOCATION:BENN Büro\, Louis-Lewin-Straße 101\, Berlin\, 12627\, Germany
ATTACH;FMTTYPE=image/png:https://benn-lls.de/wordpress/wp-content/uploads/2025/04/Frauentreff.png
END:VEVENT
BEGIN:VEVENT
DTSTART;TZID=Europe/Berlin:20250918T140000
DTEND;TZID=Europe/Berlin:20250918T170000
DTSTAMP:20260420T192920
CREATED:20250901T154021Z
LAST-MODIFIED:20250901T154114Z
UID:1929-1758204000-1758214800@benn-lls.de
SUMMARY:Nachbarschaftscafé
DESCRIPTION:Kaffee\, Spiele und Nachbarn kennenlernen. Unser offenes Café findet jeden Donnerstag statt\, wir freuen uns auf dich!
URL:https://benn-lls.de/event/nachbarschaftscafe-16/
LOCATION:BENN Büro\, Louis-Lewin-Straße 101\, Berlin\, 12627\, Germany
ATTACH;FMTTYPE=image/png:https://benn-lls.de/wordpress/wp-content/uploads/2025/04/Nachbarschaftscafe.png
END:VEVENT
BEGIN:VEVENT
DTSTART;TZID=Europe/Berlin:20250920T170000
DTEND;TZID=Europe/Berlin:20250920T190000
DTSTAMP:20260420T192920
CREATED:20250903T170151Z
LAST-MODIFIED:20250908T130302Z
UID:1944-1758387600-1758394800@benn-lls.de
SUMMARY:Fotospaziergang in Hellersdorf mit Alina Rudya
DESCRIPTION:*Begleite die Fotografin Alina Rudya auf einem einzigartigen Fotospaziergang durch Hellersdorf \n*Lerne Tipps und Tricks für spannende Fotos– mit eigener Kamera oder Smartphone\, egal ob Anfänger oder Profi \n* Entdecke die besondere Architektur von Hellersdorf und verborgene Details aus neuer Perspektive \n  \n 
URL:https://benn-lls.de/event/fotospaziergang-in-hellersdorf-mit-alina-rudya-2/
LOCATION:BENN Büro\, Louis-Lewin-Straße 101\, Berlin\, 12627\, Germany
ATTACH;FMTTYPE=image/png:https://benn-lls.de/wordpress/wp-content/uploads/2025/09/Fotowalk-1.png
END:VEVENT
BEGIN:VEVENT
DTSTART;TZID=Europe/Berlin:20250922T150000
DTEND;TZID=Europe/Berlin:20250922T160000
DTSTAMP:20260420T192920
CREATED:20250901T145347Z
LAST-MODIFIED:20250901T145347Z
UID:1894-1758553200-1758556800@benn-lls.de
SUMMARY:Musik für Kinder
DESCRIPTION:Wir machen Musik\, singen und tanzen. Für Kinder zwischen 6 und 12 Jahren. \nKeine Vorkenntnisse nötig! Das Angebot ist kostenlos.
URL:https://benn-lls.de/event/musik-fuer-kinder-7/
LOCATION:BENN Büro\, Louis-Lewin-Straße 101\, Berlin\, 12627\, Germany
ATTACH;FMTTYPE=image/png:https://benn-lls.de/wordpress/wp-content/uploads/2025/04/Musikkurs.png
ORGANIZER;CN="MitMachMusik":MAILTO:svenja.may@stephanus.org
END:VEVENT
BEGIN:VEVENT
DTSTART;TZID=Europe/Berlin:20250923T150000
DTEND;TZID=Europe/Berlin:20250923T160000
DTSTAMP:20260420T192920
CREATED:20250901T145527Z
LAST-MODIFIED:20250901T145527Z
UID:1902-1758639600-1758643200@benn-lls.de
SUMMARY:Tanzkurs für Kinder
DESCRIPTION:HipHop\, TikTok\, und Urban Dance! Wir tanzen zusammen. Für Anfänger bis Fortgeschrittene. \nDer Tanzkurs ist kostenlos\, kommt einfach vorbei. Alle Kinder zwischen 6 und 11 sind willkommen. \n  \n 
URL:https://benn-lls.de/event/tanzkurs-fuer-kinder-19/
LOCATION:BENN Büro\, Louis-Lewin-Straße 101\, Berlin\, 12627\, Germany
ATTACH;FMTTYPE=image/png:https://benn-lls.de/wordpress/wp-content/uploads/2025/04/Tanzkurs.png
END:VEVENT
BEGIN:VEVENT
DTSTART;TZID=Europe/Berlin:20250923T160000
DTEND;TZID=Europe/Berlin:20250923T170000
DTSTAMP:20260420T192920
CREATED:20250901T145549Z
LAST-MODIFIED:20250901T145549Z
UID:1904-1758643200-1758646800@benn-lls.de
SUMMARY:Tanzkurs für Jugendliche
DESCRIPTION:HipHop\, TikTok\, und Urban Dance! Wir tanzen zusammen. Für Anfänger bis Fortgeschrittene. \nDer Tanzkurs ist kostenlos\, kommt einfach vorbei. Alle Jugendlichen zwischen 12 und 17 sind willkommen. \n  \n 
URL:https://benn-lls.de/event/tanzkurs-fuer-jugendliche-19/
LOCATION:BENN Büro\, Louis-Lewin-Straße 101\, Berlin\, 12627\, Germany
ATTACH;FMTTYPE=image/png:https://benn-lls.de/wordpress/wp-content/uploads/2025/04/Tanzkurs.png
END:VEVENT
BEGIN:VEVENT
DTSTART;TZID=Europe/Berlin:20250924T150000
DTEND;TZID=Europe/Berlin:20250924T170000
DTSTAMP:20260420T192920
CREATED:20250901T153915Z
LAST-MODIFIED:20250901T153915Z
UID:1925-1758726000-1758733200@benn-lls.de
SUMMARY:Frauen-Treff mit Kinderbetreuung
DESCRIPTION:Kaffee\, Kekse\, Spiele  – komm vorbei! Alle Frauen* sind willkommen. Wir tauschen uns aus\, verbessern unser Deutsch und unterstützen uns gegenseitig. \nMit Kinderbetreuung.
URL:https://benn-lls.de/event/frauen-treff-mit-kinderbetreuung-18/
LOCATION:BENN Büro\, Louis-Lewin-Straße 101\, Berlin\, 12627\, Germany
ATTACH;FMTTYPE=image/png:https://benn-lls.de/wordpress/wp-content/uploads/2025/04/Frauentreff.png
END:VEVENT
BEGIN:VEVENT
DTSTART;TZID=Europe/Berlin:20250925T140000
DTEND;TZID=Europe/Berlin:20250925T170000
DTSTAMP:20260420T192920
CREATED:20250901T154316Z
LAST-MODIFIED:20250901T154316Z
UID:1931-1758808800-1758819600@benn-lls.de
SUMMARY:Nachbarschaftscafé - mit Job-Beratung für Migrant:innen
DESCRIPTION:Kaffee\, Spiele und Nachbarn kennenlernen. Unser offenes Café findet jeden Donnerstag statt\, wir freuen uns auf dich!
URL:https://benn-lls.de/event/nachbarschaftscafe-mit-job-beratung-fuer-migrantinnen-2/
LOCATION:BENN Büro\, Louis-Lewin-Straße 101\, Berlin\, 12627\, Germany
ATTACH;FMTTYPE=image/png:https://benn-lls.de/wordpress/wp-content/uploads/2025/04/Nachbarschaftscafe.png
END:VEVENT
BEGIN:VEVENT
DTSTART;TZID=Europe/Berlin:20250925T160000
DTEND;TZID=Europe/Berlin:20250925T190000
DTSTAMP:20260420T192920
CREATED:20250901T154453Z
LAST-MODIFIED:20250901T154453Z
UID:1933-1758816000-1758826800@benn-lls.de
SUMMARY:Nachbarschafts-Kochabend
DESCRIPTION:Die Nachbar*innen kommen und kochen gemeinsam interkulturelle Gerichte\, tauschen Rezepte und Erfahrungen aus. \nAlle Ideen sind willkommen. Das Angebot ist kostenfrei. Komm vorbei und mach mit!
URL:https://benn-lls.de/event/nachbarschafts-kochabend-5/
LOCATION:BENN Büro\, Louis-Lewin-Straße 101\, Berlin\, 12627\, Germany
ATTACH;FMTTYPE=image/png:https://benn-lls.de/wordpress/wp-content/uploads/2025/06/Kochabend-IG-Post.png
END:VEVENT
BEGIN:VEVENT
DTSTART;TZID=Europe/Berlin:20250929T150000
DTEND;TZID=Europe/Berlin:20250929T160000
DTSTAMP:20260420T192920
CREATED:20250901T145407Z
LAST-MODIFIED:20250901T145407Z
UID:1896-1759158000-1759161600@benn-lls.de
SUMMARY:Musik für Kinder
DESCRIPTION:Wir machen Musik\, singen und tanzen. Für Kinder zwischen 6 und 12 Jahren. \nKeine Vorkenntnisse nötig! Das Angebot ist kostenlos.
URL:https://benn-lls.de/event/musik-fuer-kinder-9/
LOCATION:BENN Büro\, Louis-Lewin-Straße 101\, Berlin\, 12627\, Germany
ATTACH;FMTTYPE=image/png:https://benn-lls.de/wordpress/wp-content/uploads/2025/04/Musikkurs.png
ORGANIZER;CN="MitMachMusik":MAILTO:svenja.may@stephanus.org
END:VEVENT
BEGIN:VEVENT
DTSTART;TZID=Europe/Berlin:20250929T170000
DTEND;TZID=Europe/Berlin:20250929T200000
DTSTAMP:20260420T192920
CREATED:20250901T145230Z
LAST-MODIFIED:20250901T145230Z
UID:1888-1759165200-1759176000@benn-lls.de
SUMMARY:Spiele-Abend
DESCRIPTION:Klassisches und chinesisches Schach\, Kartenspiele und worauf ihr sonst noch Lust habt! \nEs gibt Snacks und Getränke. Das Angebot ist kostenlos.
URL:https://benn-lls.de/event/spiele-abend-12/
LOCATION:BENN Büro\, Louis-Lewin-Straße 101\, Berlin\, 12627\, Germany
ATTACH;FMTTYPE=image/png:https://benn-lls.de/wordpress/wp-content/uploads/2025/06/Schach-Abend-ohne-Termin.png
END:VEVENT
BEGIN:VEVENT
DTSTART;TZID=Europe/Berlin:20250930T150000
DTEND;TZID=Europe/Berlin:20250930T160000
DTSTAMP:20260420T192920
CREATED:20250901T145609Z
LAST-MODIFIED:20250901T145609Z
UID:1906-1759244400-1759248000@benn-lls.de
SUMMARY:Tanzkurs für Kinder
DESCRIPTION:HipHop\, TikTok\, und Urban Dance! Wir tanzen zusammen. Für Anfänger bis Fortgeschrittene. \nDer Tanzkurs ist kostenlos\, kommt einfach vorbei. Alle Kinder zwischen 6 und 11 sind willkommen. \n  \n 
URL:https://benn-lls.de/event/tanzkurs-fuer-kinder-20/
LOCATION:BENN Büro\, Louis-Lewin-Straße 101\, Berlin\, 12627\, Germany
ATTACH;FMTTYPE=image/png:https://benn-lls.de/wordpress/wp-content/uploads/2025/04/Tanzkurs.png
END:VEVENT
BEGIN:VEVENT
DTSTART;TZID=Europe/Berlin:20250930T150000
DTEND;TZID=Europe/Berlin:20250930T170000
DTSTAMP:20260420T192920
CREATED:20250901T153207Z
LAST-MODIFIED:20250901T153620Z
UID:1914-1759244400-1759251600@benn-lls.de
SUMMARY:Erntefest im Panoramagarten
DESCRIPTION:Gemeinsam ernten wir alle Kräuter und Gemüsesorten\, die wir in unserem Panoramagarten angepflanzt haben. Kommt vorbei!! \nDas Angebot ist kostenlos. Treffpunkt ist der Panoramagarten auf dem Fußgängerweg zwischen der U Louis-Lewin-Straße und der Albert-Kuntz-Straße.
URL:https://benn-lls.de/event/erntefest-im-panoramagarten/
LOCATION:Panoramagarten hinter der GU\, Albert-Kuntz-Straße 63\, 12627 Berlin
ATTACH;FMTTYPE=image/png:https://benn-lls.de/wordpress/wp-content/uploads/2025/09/3-1.png
END:VEVENT
BEGIN:VEVENT
DTSTART;TZID=Europe/Berlin:20250930T160000
DTEND;TZID=Europe/Berlin:20250930T170000
DTSTAMP:20260420T192920
CREATED:20250901T145626Z
LAST-MODIFIED:20250901T145626Z
UID:1908-1759248000-1759251600@benn-lls.de
SUMMARY:Tanzkurs für Jugendliche
DESCRIPTION:HipHop\, TikTok\, und Urban Dance! Wir tanzen zusammen. Für Anfänger bis Fortgeschrittene. \nDer Tanzkurs ist kostenlos\, kommt einfach vorbei. Alle Jugendlichen zwischen 12 und 17 sind willkommen. \n  \n 
URL:https://benn-lls.de/event/tanzkurs-fuer-jugendliche-20/
LOCATION:BENN Büro\, Louis-Lewin-Straße 101\, Berlin\, 12627\, Germany
ATTACH;FMTTYPE=image/png:https://benn-lls.de/wordpress/wp-content/uploads/2025/04/Tanzkurs.png
END:VEVENT
END:VCALENDAR