BEGIN:VCALENDAR
VERSION:2.0
PRODID:-//BENN Louis-Lewin-Straße - ECPv6.15.20//NONSGML v1.0//EN
CALSCALE:GREGORIAN
METHOD:PUBLISH
X-WR-CALNAME:BENN Louis-Lewin-Straße
X-ORIGINAL-URL:https://benn-lls.de
X-WR-CALDESC:Veranstaltungen für BENN Louis-Lewin-Straße
REFRESH-INTERVAL;VALUE=DURATION:PT1H
X-Robots-Tag:noindex
X-PUBLISHED-TTL:PT1H
BEGIN:VTIMEZONE
TZID:Europe/Berlin
BEGIN:DAYLIGHT
TZOFFSETFROM:+0100
TZOFFSETTO:+0200
TZNAME:CEST
DTSTART:20250330T010000
END:DAYLIGHT
BEGIN:STANDARD
TZOFFSETFROM:+0200
TZOFFSETTO:+0100
TZNAME:CET
DTSTART:20251026T010000
END:STANDARD
BEGIN:DAYLIGHT
TZOFFSETFROM:+0100
TZOFFSETTO:+0200
TZNAME:CEST
DTSTART:20260329T010000
END:DAYLIGHT
BEGIN:STANDARD
TZOFFSETFROM:+0200
TZOFFSETTO:+0100
TZNAME:CET
DTSTART:20261025T010000
END:STANDARD
BEGIN:DAYLIGHT
TZOFFSETFROM:+0100
TZOFFSETTO:+0200
TZNAME:CEST
DTSTART:20270328T010000
END:DAYLIGHT
BEGIN:STANDARD
TZOFFSETFROM:+0200
TZOFFSETTO:+0100
TZNAME:CET
DTSTART:20271031T010000
END:STANDARD
END:VTIMEZONE
BEGIN:VEVENT
DTSTART;TZID=Europe/Berlin:20260323T100000
DTEND;TZID=Europe/Berlin:20260323T120000
DTSTAMP:20260422T195748
CREATED:20260227T151807Z
LAST-MODIFIED:20260227T151807Z
UID:2376-1774260000-1774267200@benn-lls.de
SUMMARY:Nordic Walking für 50+
DESCRIPTION:Treffpunkt ist am Stadtteilzentrum Hellersdorf-Ost\, Albert-Kuntz-Straße 42.
URL:https://benn-lls.de/event/nordic-walking-fuer-50-27/
LOCATION:Stadtteilzentrum Hellersdorf-Ost\, Albert-Kuntz-Straße 42\, 12627 Berlin
ATTACH;FMTTYPE=image/png:https://benn-lls.de/wordpress/wp-content/uploads/2025/06/Nordic-Walking.png
END:VEVENT
BEGIN:VEVENT
DTSTART;TZID=Europe/Berlin:20260323T150000
DTEND;TZID=Europe/Berlin:20260323T160000
DTSTAMP:20260422T195748
CREATED:20260227T151045Z
LAST-MODIFIED:20260227T151045Z
UID:2352-1774278000-1774281600@benn-lls.de
SUMMARY:Musik für Kinder von 6-12 Jahren
DESCRIPTION:Wir machen Musik\, singen und tanzen. Für Kinder zwischen 6 und 12 Jahren. \nKeine Vorkenntnisse nötig! Das Angebot ist kostenlos.
URL:https://benn-lls.de/event/musik-fuer-kinder-von-6-12-jahren-12/
ATTACH;FMTTYPE=image/png:https://benn-lls.de/wordpress/wp-content/uploads/2025/11/2.png
END:VEVENT
BEGIN:VEVENT
DTSTART;TZID=Europe/Berlin:20260323T160000
DTEND;TZID=Europe/Berlin:20260323T163000
DTSTAMP:20260422T195748
CREATED:20260227T151237Z
LAST-MODIFIED:20260227T151237Z
UID:2350-1774281600-1774283400@benn-lls.de
SUMMARY:Musik für Kinder von 3-5 Jahren
DESCRIPTION:Wir machen Musik\, singen und tanzen. Für Kinder zwischen 3 und 5 Jahren. \nKeine Vorkenntnisse nötig! Das Angebot ist kostenlos.
URL:https://benn-lls.de/event/musik-fuer-kinder-von-3-5-jahren-12/
ATTACH;FMTTYPE=image/png:https://benn-lls.de/wordpress/wp-content/uploads/2025/11/3.png
END:VEVENT
BEGIN:VEVENT
DTSTART;TZID=Europe/Berlin:20260323T160000
DTEND;TZID=Europe/Berlin:20260323T163000
DTSTAMP:20260422T195748
CREATED:20260227T151257Z
LAST-MODIFIED:20260227T151257Z
UID:2349-1774281600-1774283400@benn-lls.de
SUMMARY:Musik für Kinder von 3-5 Jahren
DESCRIPTION:Wir machen Musik\, singen und tanzen. Für Kinder zwischen 3 und 5 Jahren. \nKeine Vorkenntnisse nötig! Das Angebot ist kostenlos.
URL:https://benn-lls.de/event/musik-fuer-kinder-von-3-5-jahren-13/
ATTACH;FMTTYPE=image/png:https://benn-lls.de/wordpress/wp-content/uploads/2025/11/3.png
END:VEVENT
BEGIN:VEVENT
DTSTART;TZID=Europe/Berlin:20260323T170000
DTEND;TZID=Europe/Berlin:20260323T200000
DTSTAMP:20260422T195748
CREATED:20260227T151432Z
LAST-MODIFIED:20260227T153449Z
UID:2369-1774285200-1774296000@benn-lls.de
SUMMARY:Spiele-Abend
DESCRIPTION:Klassisches und chinesisches Schach\, Kartenspiele und worauf ihr sonst noch Lust habt! \nEs gibt Snacks und Getränke. Das Angebot ist kostenlos.
URL:https://benn-lls.de/event/spiele-abend-23/
LOCATION:BENN Büro\, Louis-Lewin-Straße 101\, Berlin\, 12627\, Germany
ATTACH;FMTTYPE=image/png:https://benn-lls.de/wordpress/wp-content/uploads/2025/06/Schach-Abend-ohne-Termin.png
END:VEVENT
END:VCALENDAR