BEGIN:VCALENDAR
VERSION:2.0
PRODID:-//BENN Louis-Lewin-Straße - ECPv6.15.20//NONSGML v1.0//EN
CALSCALE:GREGORIAN
METHOD:PUBLISH
X-ORIGINAL-URL:https://benn-lls.de
X-WR-CALDESC:Veranstaltungen für BENN Louis-Lewin-Straße
REFRESH-INTERVAL;VALUE=DURATION:PT1H
X-Robots-Tag:noindex
X-PUBLISHED-TTL:PT1H
BEGIN:VTIMEZONE
TZID:Europe/Berlin
BEGIN:DAYLIGHT
TZOFFSETFROM:+0100
TZOFFSETTO:+0200
TZNAME:CEST
DTSTART:20240331T010000
END:DAYLIGHT
BEGIN:STANDARD
TZOFFSETFROM:+0200
TZOFFSETTO:+0100
TZNAME:CET
DTSTART:20241027T010000
END:STANDARD
BEGIN:DAYLIGHT
TZOFFSETFROM:+0100
TZOFFSETTO:+0200
TZNAME:CEST
DTSTART:20250330T010000
END:DAYLIGHT
BEGIN:STANDARD
TZOFFSETFROM:+0200
TZOFFSETTO:+0100
TZNAME:CET
DTSTART:20251026T010000
END:STANDARD
BEGIN:DAYLIGHT
TZOFFSETFROM:+0100
TZOFFSETTO:+0200
TZNAME:CEST
DTSTART:20260329T010000
END:DAYLIGHT
BEGIN:STANDARD
TZOFFSETFROM:+0200
TZOFFSETTO:+0100
TZNAME:CET
DTSTART:20261025T010000
END:STANDARD
END:VTIMEZONE
BEGIN:VEVENT
DTSTART;TZID=Europe/Berlin:20250708T150000
DTEND;TZID=Europe/Berlin:20250708T160000
DTSTAMP:20260420T205237
CREATED:20250618T115638Z
LAST-MODIFIED:20250618T115638Z
UID:1631-1751986800-1751990400@benn-lls.de
SUMMARY:Tanzkurs für Kinder
DESCRIPTION:HipHop\, TikTok\, und Urban Dance! Wir tanzen zusammen. Für Anfänger bis Fortgeschrittene. \nDer Tanzkurs ist kostenlos\, kommt einfach vorbei. Alle Kinder zwischen 6 und 11 sind willkommen. \n  \n 
URL:https://benn-lls.de/event/tanzkurs-fuer-kinder-10/
LOCATION:BENN Büro\, Louis-Lewin-Straße 101\, Berlin\, 12627\, Germany
ATTACH;FMTTYPE=image/png:https://benn-lls.de/wordpress/wp-content/uploads/2025/04/Tanzkurs.png
END:VEVENT
BEGIN:VEVENT
DTSTART;TZID=Europe/Berlin:20250708T160000
DTEND;TZID=Europe/Berlin:20250708T170000
DTSTAMP:20260420T205237
CREATED:20250618T115303Z
LAST-MODIFIED:20250618T115303Z
UID:1624-1751990400-1751994000@benn-lls.de
SUMMARY:Tanzkurs für Jugendliche
DESCRIPTION:HipHop\, TikTok\, und Urban Dance! Wir tanzen zusammen. Für Anfänger bis Fortgeschrittene. \nDer Tanzkurs ist kostenlos\, kommt einfach vorbei. Alle Jugendlichen zwischen 12 und 17 sind willkommen. \n  \n 
URL:https://benn-lls.de/event/tanzkurs-fuer-jugendliche-10/
LOCATION:BENN Büro\, Louis-Lewin-Straße 101\, Berlin\, 12627\, Germany
ATTACH;FMTTYPE=image/png:https://benn-lls.de/wordpress/wp-content/uploads/2025/04/Tanzkurs.png
END:VEVENT
BEGIN:VEVENT
DTSTART;TZID=Europe/Berlin:20250708T160000
DTEND;TZID=Europe/Berlin:20250708T170000
DTSTAMP:20260420T205237
CREATED:20250618T121530Z
LAST-MODIFIED:20250618T121530Z
UID:1693-1751990400-1751994000@benn-lls.de
SUMMARY:Gärtnern für Kinder
DESCRIPTION:Wir entdecken Natur! Zusammen gärtnern wir\, lernen wie man ein Beet pflegt oder was um uns herum wächst. Spannend für Kinder zwischen 6 und 12 Jahren. \nDas Angebot ist kostenlos. Treffpunkt ist der Panoramagarten auf dem Fußgängerweg zwischen der U Louis-Lewin-Straße und der Albert-Kuntz-Straße.
URL:https://benn-lls.de/event/gaertnern-fuer-kinder-4/
LOCATION:Panoramagarten hinter der GU\, Albert-Kuntz-Straße 63\, 12627 Berlin
ATTACH;FMTTYPE=image/png:https://benn-lls.de/wordpress/wp-content/uploads/2025/04/Gaertnern-fuer-Kinder.png
END:VEVENT
END:VCALENDAR