BEGIN:VCALENDAR
VERSION:2.0
PRODID:-//BENN Louis-Lewin-Straße - ECPv6.15.20//NONSGML v1.0//EN
CALSCALE:GREGORIAN
METHOD:PUBLISH
X-WR-CALNAME:BENN Louis-Lewin-Straße
X-ORIGINAL-URL:https://benn-lls.de
X-WR-CALDESC:Veranstaltungen für BENN Louis-Lewin-Straße
REFRESH-INTERVAL;VALUE=DURATION:PT1H
X-Robots-Tag:noindex
X-PUBLISHED-TTL:PT1H
BEGIN:VTIMEZONE
TZID:Europe/Berlin
BEGIN:DAYLIGHT
TZOFFSETFROM:+0100
TZOFFSETTO:+0200
TZNAME:CEST
DTSTART:20240331T010000
END:DAYLIGHT
BEGIN:STANDARD
TZOFFSETFROM:+0200
TZOFFSETTO:+0100
TZNAME:CET
DTSTART:20241027T010000
END:STANDARD
BEGIN:DAYLIGHT
TZOFFSETFROM:+0100
TZOFFSETTO:+0200
TZNAME:CEST
DTSTART:20250330T010000
END:DAYLIGHT
BEGIN:STANDARD
TZOFFSETFROM:+0200
TZOFFSETTO:+0100
TZNAME:CET
DTSTART:20251026T010000
END:STANDARD
BEGIN:DAYLIGHT
TZOFFSETFROM:+0100
TZOFFSETTO:+0200
TZNAME:CEST
DTSTART:20260329T010000
END:DAYLIGHT
BEGIN:STANDARD
TZOFFSETFROM:+0200
TZOFFSETTO:+0100
TZNAME:CET
DTSTART:20261025T010000
END:STANDARD
END:VTIMEZONE
BEGIN:VEVENT
DTSTART;TZID=Europe/Berlin:20250729T150000
DTEND;TZID=Europe/Berlin:20250729T180000
DTSTAMP:20260422T182304
CREATED:20250618T115518Z
LAST-MODIFIED:20250721T150711Z
UID:1627-1753801200-1753812000@benn-lls.de
SUMMARY:Pflanz-Aktion im Panoramagarten
DESCRIPTION:Wir machen den Panoramagarten bei der U Louis-Lewin-Straße zu einem schönen Ort für Veranstaltungen und Grillen. Dafür bepflanzen wir Hochbeete mit duftenden Blumen und Kräutern. Kommt vorbei! \nDas Angebot ist kostenlos. Treffpunkt ist der Panoramagarten auf dem Fußgängerweg zwischen der U Louis-Lewin-Straße und der Albert-Kuntz-Straße.
URL:https://benn-lls.de/event/pflanz-aktion-im-panoramagarten-2/
LOCATION:Panoramagarten hinter der GU\, Albert-Kuntz-Straße 63\, 12627 Berlin
END:VEVENT
END:VCALENDAR